BEGIN:VCALENDAR
VERSION:2.0
PRODID:-//Barren County Public Library - ECPv6.15.20//NONSGML v1.0//EN
CALSCALE:GREGORIAN
METHOD:PUBLISH
X-ORIGINAL-URL:https://weldonpubliclibrary.org
X-WR-CALDESC:Events for Barren County Public Library
REFRESH-INTERVAL;VALUE=DURATION:PT1H
X-Robots-Tag:noindex
X-PUBLISHED-TTL:PT1H
BEGIN:VTIMEZONE
TZID:America/Chicago
BEGIN:DAYLIGHT
TZOFFSETFROM:-0600
TZOFFSETTO:-0500
TZNAME:CDT
DTSTART:20250309T080000
END:DAYLIGHT
BEGIN:STANDARD
TZOFFSETFROM:-0500
TZOFFSETTO:-0600
TZNAME:CST
DTSTART:20251102T070000
END:STANDARD
BEGIN:DAYLIGHT
TZOFFSETFROM:-0600
TZOFFSETTO:-0500
TZNAME:CDT
DTSTART:20260308T080000
END:DAYLIGHT
BEGIN:STANDARD
TZOFFSETFROM:-0500
TZOFFSETTO:-0600
TZNAME:CST
DTSTART:20261101T070000
END:STANDARD
BEGIN:DAYLIGHT
TZOFFSETFROM:-0600
TZOFFSETTO:-0500
TZNAME:CDT
DTSTART:20270314T080000
END:DAYLIGHT
BEGIN:STANDARD
TZOFFSETFROM:-0500
TZOFFSETTO:-0600
TZNAME:CST
DTSTART:20271107T070000
END:STANDARD
END:VTIMEZONE
BEGIN:VEVENT
DTSTART;TZID=America/Chicago:20260331T103000
DTEND;TZID=America/Chicago:20260331T110000
DTSTAMP:20260420T153020
CREATED:20260312T003647Z
LAST-MODIFIED:20260326T185257Z
UID:10000080-1774953000-1774954800@weldonpubliclibrary.org
SUMMARY:Toddler Tuesday
DESCRIPTION:Toddler Tuesday is a 30-minute story time program designed for 9 months-2 years. Each week you can expect stories\, songs\, and free play. Please register online.
URL:https://weldonpubliclibrary.org/index.php/event/toddler-tuesday-10/
LOCATION:Mary Wood Weldon Memorial Library\, 1530 S Green St.\, Glasgow\, KY\, 42141\, United States
CATEGORIES:Children Events
ATTACH;FMTTYPE=image/png:https://weldonpubliclibrary.org/wp-content/uploads/2025/12/Blue-Bright-Sun-Zoom-Virtual-Background.png
END:VEVENT
BEGIN:VEVENT
DTSTART;TZID=America/Chicago:20260331T093000
DTEND;TZID=America/Chicago:20260331T100000
DTSTAMP:20260420T153020
CREATED:20260312T003632Z
LAST-MODIFIED:20260312T152155Z
UID:10000075-1774949400-1774951200@weldonpubliclibrary.org
SUMMARY:Toddler Tuesday
DESCRIPTION:Toddler Tuesday is a 30-minute story time program designed for 9 months-2 years. Each week you can expect stories\, songs\, and free play. Please register online.
URL:https://weldonpubliclibrary.org/index.php/event/toddler-tuesday-5/
LOCATION:Mary Wood Weldon Memorial Library\, 1530 S Green St.\, Glasgow\, KY\, 42141\, United States
CATEGORIES:Children Events
ATTACH;FMTTYPE=image/png:https://weldonpubliclibrary.org/wp-content/uploads/2025/12/Blue-Bright-Sun-Zoom-Virtual-Background.png
END:VEVENT
BEGIN:VEVENT
DTSTART;TZID=America/Chicago:20260327T100000
DTEND;TZID=America/Chicago:20260327T110000
DTSTAMP:20260420T153020
CREATED:20260312T003718Z
LAST-MODIFIED:20260312T172306Z
UID:10000086-1774605600-1774609200@weldonpubliclibrary.org
SUMMARY:Raising Readers
DESCRIPTION:This story time program is perfect for children ages 3-5. Each week will highlight a different letter\, accompanied by engaging stories\, songs\, and a related activity. Please register online.
URL:https://weldonpubliclibrary.org/index.php/event/raising-readers-2/
LOCATION:Mary Wood Weldon Memorial Library\, 1530 S Green St.\, Glasgow\, KY\, 42141\, United States
CATEGORIES:Children Events
ATTACH;FMTTYPE=image/png:https://weldonpubliclibrary.org/wp-content/uploads/2025/12/Raising-Readers.png
END:VEVENT
BEGIN:VEVENT
DTSTART;TZID=America/Chicago:20260326T163000
DTEND;TZID=America/Chicago:20260326T173000
DTSTAMP:20260420T153020
CREATED:20260312T003702Z
LAST-MODIFIED:20260312T173758Z
UID:10000085-1774542600-1774546200@weldonpubliclibrary.org
SUMMARY:Gogh With The Flow
DESCRIPTION:Celebrate the colorful world of Eric Carle at the library! Children ages 5-12 will enjoy a special program inspired by The Very Hungry Caterpillar. We’ll take a closer look at the beloved story and create a vibrant paint project to bring the famous caterpillar to life. Please register online.
URL:https://weldonpubliclibrary.org/index.php/event/gogh-with-the-flow/
LOCATION:Mary Wood Weldon Memorial Library\, 1530 S Green St.\, Glasgow\, KY\, 42141\, United States
CATEGORIES:Children Events
ATTACH;FMTTYPE=image/jpeg:https://weldonpubliclibrary.org/wp-content/uploads/2026/03/WithTheFLow__.jpg
END:VEVENT
BEGIN:VEVENT
DTSTART;TZID=America/Chicago:20260324T103000
DTEND;TZID=America/Chicago:20260324T110000
DTSTAMP:20260420T153020
CREATED:20260312T003647Z
LAST-MODIFIED:20260312T152223Z
UID:10000079-1774348200-1774350000@weldonpubliclibrary.org
SUMMARY:Toddler Tuesday
DESCRIPTION:Toddler Tuesday is a 30-minute story time program designed for 9 months-2 years. Each week you can expect stories\, songs\, and free play. Please register online.
URL:https://weldonpubliclibrary.org/index.php/event/toddler-tuesday-9/
LOCATION:Mary Wood Weldon Memorial Library\, 1530 S Green St.\, Glasgow\, KY\, 42141\, United States
CATEGORIES:Children Events
ATTACH;FMTTYPE=image/png:https://weldonpubliclibrary.org/wp-content/uploads/2025/12/Blue-Bright-Sun-Zoom-Virtual-Background.png
END:VEVENT
BEGIN:VEVENT
DTSTART;TZID=America/Chicago:20260324T093000
DTEND;TZID=America/Chicago:20260324T100000
DTSTAMP:20260420T153020
CREATED:20260312T003632Z
LAST-MODIFIED:20260312T152250Z
UID:10000074-1774344600-1774346400@weldonpubliclibrary.org
SUMMARY:Toddler Tuesday
DESCRIPTION:Toddler Tuesday is a 30-minute story time program designed for 9 months-2 years. Each week you can expect stories\, songs\, and free play. Please register online.
URL:https://weldonpubliclibrary.org/index.php/event/toddler-tuesday-4/
LOCATION:Mary Wood Weldon Memorial Library\, 1530 S Green St.\, Glasgow\, KY\, 42141\, United States
CATEGORIES:Children Events
ATTACH;FMTTYPE=image/png:https://weldonpubliclibrary.org/wp-content/uploads/2025/12/Blue-Bright-Sun-Zoom-Virtual-Background.png
END:VEVENT
BEGIN:VEVENT
DTSTART;TZID=America/Chicago:20260320T100000
DTEND;TZID=America/Chicago:20260320T110000
DTSTAMP:20260420T153020
CREATED:20260312T003702Z
LAST-MODIFIED:20260312T172302Z
UID:10000083-1774000800-1774004400@weldonpubliclibrary.org
SUMMARY:Raising Readers
DESCRIPTION:This story time program is perfect for children ages 3-5. Each week will highlight a different letter\, accompanied by engaging stories\, songs\, and a related activity. Please register online.
URL:https://weldonpubliclibrary.org/index.php/event/raising-readers/
LOCATION:Mary Wood Weldon Memorial Library\, 1530 S Green St.\, Glasgow\, KY\, 42141\, United States
CATEGORIES:Children Events
ATTACH;FMTTYPE=image/png:https://weldonpubliclibrary.org/wp-content/uploads/2025/12/Raising-Readers.png
END:VEVENT
BEGIN:VEVENT
DTSTART;TZID=America/Chicago:20260317T103000
DTEND;TZID=America/Chicago:20260317T110000
DTSTAMP:20260420T153020
CREATED:20260312T003647Z
LAST-MODIFIED:20260312T152230Z
UID:10000078-1773743400-1773745200@weldonpubliclibrary.org
SUMMARY:Toddler Tuesday
DESCRIPTION:Toddler Tuesday is a 30-minute story time program designed for 9 months-2 years. Each week you can expect stories\, songs\, and free play. Please register online.
URL:https://weldonpubliclibrary.org/index.php/event/toddler-tuesday-8/
LOCATION:Mary Wood Weldon Memorial Library\, 1530 S Green St.\, Glasgow\, KY\, 42141\, United States
CATEGORIES:Children Events
ATTACH;FMTTYPE=image/png:https://weldonpubliclibrary.org/wp-content/uploads/2025/12/Blue-Bright-Sun-Zoom-Virtual-Background.png
END:VEVENT
BEGIN:VEVENT
DTSTART;TZID=America/Chicago:20260317T093000
DTEND;TZID=America/Chicago:20260317T100000
DTSTAMP:20260420T153020
CREATED:20260312T003632Z
LAST-MODIFIED:20260312T152351Z
UID:10000073-1773739800-1773741600@weldonpubliclibrary.org
SUMMARY:Toddler Tuesday
DESCRIPTION:Toddler Tuesday is a 30-minute story time program designed for 9 months-2 years. Each week you can expect stories\, songs\, and free play. Please register online.
URL:https://weldonpubliclibrary.org/index.php/event/toddler-tuesday-3/
LOCATION:Mary Wood Weldon Memorial Library\, 1530 S Green St.\, Glasgow\, KY\, 42141\, United States
CATEGORIES:Children Events
ATTACH;FMTTYPE=image/png:https://weldonpubliclibrary.org/wp-content/uploads/2025/12/Blue-Bright-Sun-Zoom-Virtual-Background.png
END:VEVENT
BEGIN:VEVENT
DTSTART;TZID=America/Chicago:20260313T100000
DTEND;TZID=America/Chicago:20260313T104500
DTSTAMP:20260420T153020
CREATED:20260312T003702Z
LAST-MODIFIED:20260312T172402Z
UID:10000082-1773396000-1773398700@weldonpubliclibrary.org
SUMMARY:Pre-K S.T.E.A.M.: Rainbows
DESCRIPTION:Preschoolers aged 3-5 will explore the world of S.T.E.A.M. through stories\, songs\, and hands on fun! This program blends learning and play and is perfect for growing minds. This month’s theme is: rainbows. We’ll work on our math skills by counting and graphing colored cereal.Please register online.
URL:https://weldonpubliclibrary.org/index.php/event/pre-k-s-t-e-a-m-rainbows/
LOCATION:Mary Wood Weldon Memorial Library\, 1530 S Green St.\, Glasgow\, KY\, 42141\, United States
CATEGORIES:Children Events
ATTACH;FMTTYPE=image/png:https://weldonpubliclibrary.org/wp-content/uploads/2025/12/PreKSteam.png
END:VEVENT
BEGIN:VEVENT
DTSTART;TZID=America/Chicago:20260312T163000
DTEND;TZID=America/Chicago:20260312T173000
DTSTAMP:20260420T153020
CREATED:20260312T003702Z
LAST-MODIFIED:20260312T170436Z
UID:10000081-1773333000-1773336600@weldonpubliclibrary.org
SUMMARY:Glasgow Green
DESCRIPTION:Glasgow Green: a hands-on nature program for kids and teens (Kindergarten to age 18). Celebrate nature with a dandelion-themed craft at the library\, learn about the dandelion’s life cycle\, and discover its importance to pollinators. Participants can also sample dandelion tea. Please register online.
URL:https://weldonpubliclibrary.org/index.php/event/glasgow-green/
LOCATION:Mary Wood Weldon Memorial Library\, 1530 S Green St.\, Glasgow\, KY\, 42141\, United States
CATEGORIES:Children Events
ATTACH;FMTTYPE=image/jpeg:https://weldonpubliclibrary.org/wp-content/uploads/2026/03/GlasgowGreen_MWWL.jpg
END:VEVENT
BEGIN:VEVENT
DTSTART;TZID=America/Chicago:20260310T103000
DTEND;TZID=America/Chicago:20260310T110000
DTSTAMP:20260420T153020
CREATED:20260312T003647Z
LAST-MODIFIED:20260312T152239Z
UID:10000077-1773138600-1773140400@weldonpubliclibrary.org
SUMMARY:Toddler Tuesday
DESCRIPTION:Toddler Tuesday is a 30-minute story time program designed for 9 months-2 years. Each week you can expect stories\, songs\, and free play. Please register online.
URL:https://weldonpubliclibrary.org/index.php/event/toddler-tuesday-7/
LOCATION:Mary Wood Weldon Memorial Library\, 1530 S Green St.\, Glasgow\, KY\, 42141\, United States
CATEGORIES:Children Events
ATTACH;FMTTYPE=image/png:https://weldonpubliclibrary.org/wp-content/uploads/2025/12/Blue-Bright-Sun-Zoom-Virtual-Background.png
END:VEVENT
BEGIN:VEVENT
DTSTART;TZID=America/Chicago:20260310T093000
DTEND;TZID=America/Chicago:20260310T100000
DTSTAMP:20260420T153020
CREATED:20260312T003632Z
LAST-MODIFIED:20260312T152348Z
UID:10000072-1773135000-1773136800@weldonpubliclibrary.org
SUMMARY:Toddler Tuesday
DESCRIPTION:Toddler Tuesday is a 30-minute story time program designed for 9 months-2 years. Each week you can expect stories\, songs\, and free play. Please register online.
URL:https://weldonpubliclibrary.org/index.php/event/toddler-tuesday-2/
LOCATION:Mary Wood Weldon Memorial Library\, 1530 S Green St.\, Glasgow\, KY\, 42141\, United States
CATEGORIES:Children Events
ATTACH;FMTTYPE=image/png:https://weldonpubliclibrary.org/wp-content/uploads/2025/12/Blue-Bright-Sun-Zoom-Virtual-Background.png
END:VEVENT
BEGIN:VEVENT
DTSTART;TZID=America/Chicago:20260303T103000
DTEND;TZID=America/Chicago:20260303T110000
DTSTAMP:20260420T153020
CREATED:20260312T003647Z
LAST-MODIFIED:20260312T003647Z
UID:10000076-1772533800-1772535600@weldonpubliclibrary.org
SUMMARY:Toddler Tuesday
DESCRIPTION:Toddler Tuesday is a 30-minute story time program designed for 9 months-2 years. Each week you can expect  stories\, songs\, and free play.                                      Please register online.
URL:https://weldonpubliclibrary.org/index.php/event/toddler-tuesday-6/
LOCATION:Mary Wood Weldon Memorial Library\, 1530 S Green St.\, Glasgow\, KY\, 42141\, United States
CATEGORIES:Children Events
END:VEVENT
BEGIN:VEVENT
DTSTART;TZID=America/Chicago:20260303T093000
DTEND;TZID=America/Chicago:20260303T100000
DTSTAMP:20260420T153020
CREATED:20260312T003632Z
LAST-MODIFIED:20260312T152345Z
UID:10000071-1772530200-1772532000@weldonpubliclibrary.org
SUMMARY:Toddler Tuesday
DESCRIPTION:Toddler Tuesday is a 30-minute story time program designed for 9 months-2 years. Each week you can expect stories\, songs\, and free play. Please register online.
URL:https://weldonpubliclibrary.org/index.php/event/toddler-tuesday/
LOCATION:Mary Wood Weldon Memorial Library\, 1530 S Green St.\, Glasgow\, KY\, 42141\, United States
CATEGORIES:Children Events
ATTACH;FMTTYPE=image/png:https://weldonpubliclibrary.org/wp-content/uploads/2025/12/Blue-Bright-Sun-Zoom-Virtual-Background.png
END:VEVENT
END:VCALENDAR