BEGIN:VCALENDAR
VERSION:2.0
PRODID:-//Barren County Public Library - ECPv6.15.20//NONSGML v1.0//EN
CALSCALE:GREGORIAN
METHOD:PUBLISH
X-ORIGINAL-URL:https://weldonpubliclibrary.org
X-WR-CALDESC:Events for Barren County Public Library
REFRESH-INTERVAL;VALUE=DURATION:PT1H
X-Robots-Tag:noindex
X-PUBLISHED-TTL:PT1H
BEGIN:VTIMEZONE
TZID:America/Chicago
BEGIN:DAYLIGHT
TZOFFSETFROM:-0600
TZOFFSETTO:-0500
TZNAME:CDT
DTSTART:20250309T080000
END:DAYLIGHT
BEGIN:STANDARD
TZOFFSETFROM:-0500
TZOFFSETTO:-0600
TZNAME:CST
DTSTART:20251102T070000
END:STANDARD
BEGIN:DAYLIGHT
TZOFFSETFROM:-0600
TZOFFSETTO:-0500
TZNAME:CDT
DTSTART:20260308T080000
END:DAYLIGHT
BEGIN:STANDARD
TZOFFSETFROM:-0500
TZOFFSETTO:-0600
TZNAME:CST
DTSTART:20261101T070000
END:STANDARD
BEGIN:DAYLIGHT
TZOFFSETFROM:-0600
TZOFFSETTO:-0500
TZNAME:CDT
DTSTART:20270314T080000
END:DAYLIGHT
BEGIN:STANDARD
TZOFFSETFROM:-0500
TZOFFSETTO:-0600
TZNAME:CST
DTSTART:20271107T070000
END:STANDARD
END:VTIMEZONE
BEGIN:VEVENT
DTSTART;TZID=America/Chicago:20260420T160000
DTEND;TZID=America/Chicago:20260420T183000
DTSTAMP:20260420T131930
CREATED:20260409T231732Z
LAST-MODIFIED:20260409T231732Z
UID:10000147-1776700800-1776709800@weldonpubliclibrary.org
SUMMARY:Tween D&D
DESCRIPTION:Do you have an itch for a fun and exciting fantasy adventure chocked full of twists and turns? Come scratch that itch at the Mary Wood Weldon Memorial Library with a Dungeons and Dragons (version 5.5e) campaign guaranteed to challenge and delight. This campaign was created and will be run by long time player and game master\, Chris Jones. Be prepared for a treasure chest full of laughs\, as our heroes are recruited by the secretive Order of Arcane Findings (O.A.F.) The purpose of the order is to locate and obtain items that have magical powers and keep them out of the hands that have no business possessing them. Can the party find these items and return them for safe keeping? Maybe more importantly\, can the party not blow themselves up in the process? Only you can tell the story! \nFor tweens ages 9-12 only. Online Registration Required.  \n*Don’t forget to bring a filled out character sheet!*
URL:https://weldonpubliclibrary.org/index.php/event/tween-dd-2/
LOCATION:Mary Wood Weldon Memorial Library\, 1530 S Green St.\, Glasgow\, KY\, 42141\, United States
CATEGORIES:Tween Program
ATTACH;FMTTYPE=image/png:https://weldonpubliclibrary.org/wp-content/uploads/2026/04/1-600x327-1.png
END:VEVENT
BEGIN:VEVENT
DTSTART;TZID=America/Chicago:20260421T090000
DTEND;TZID=America/Chicago:20260425T193000
DTSTAMP:20260420T131930
CREATED:20260326T184248Z
LAST-MODIFIED:20260326T191801Z
UID:10000115-1776762000-1777145400@weldonpubliclibrary.org
SUMMARY:Library Joy Photo Booth
DESCRIPTION:It’s National Library Week\, and the theme is “Find Your Joy!” Share your library joy at our library-themed photo booth. You can share your library joy photos on our Facebook page or on your own social channels using the hashtag #LibraryJoyMWWML
URL:https://weldonpubliclibrary.org/index.php/event/library-joy-photo-booth/
LOCATION:Mary Wood Weldon Memorial Library\, 1530 S Green St.\, Glasgow\, KY\, 42141\, United States
CATEGORIES:Family Program
ATTACH;FMTTYPE=image/png:https://weldonpubliclibrary.org/wp-content/uploads/2026/03/NLW_Weldon.png
END:VEVENT
BEGIN:VEVENT
DTSTART;TZID=America/Chicago:20260421T150000
DTEND;TZID=America/Chicago:20260421T170000
DTSTAMP:20260420T131930
CREATED:20260409T225605Z
LAST-MODIFIED:20260409T225605Z
UID:10000140-1776783600-1776790800@weldonpubliclibrary.org
SUMMARY:Lego @ The Library
DESCRIPTION:Calling all creative builders! Each month at the library\, students in grades K–12 are invited to take on a brand-new LEGO challenge. Whether you’re a seasoned builder or just starting out\, this program is all about imagination\, hands-on fun\, and a little friendly competition. \nThis month’s theme is Library! During the session\, participants will have time to build their creations based on the theme. Once complete\, builds will be displayed in the library for the community to admire and vote on throughout the month. The builder with the most votes will win a fun prize! \nRegistration is required\, and all materials will be provided—just bring your best ideas and your enthusiasm. Join us each month to sharpen your creativity\, explore new challenges\, and show off your amazing LEGO talent!
URL:https://weldonpubliclibrary.org/index.php/event/lego-the-library/
LOCATION:Mary Wood Weldon Memorial Library\, 1530 S Green St.\, Glasgow\, KY\, 42141\, United States
CATEGORIES:Youth Program All Ages
ATTACH;FMTTYPE=image/png:https://weldonpubliclibrary.org/wp-content/uploads/2026/04/7-1024x559-1.png
END:VEVENT
BEGIN:VEVENT
DTSTART;TZID=America/Chicago:20260421T180000
DTEND;TZID=America/Chicago:20260421T190000
DTSTAMP:20260420T131930
CREATED:20260409T230913Z
LAST-MODIFIED:20260409T230913Z
UID:10000144-1776794400-1776798000@weldonpubliclibrary.org
SUMMARY:Teen Craft Night
DESCRIPTION:Every Tuesday there is an activity for teens at the library\, featuring game nights\, Teen Advisory Council meetings\, trivia\, crafts\, and more. It’s a great opportunity to relax\, meet other teens\, and enjoy a dedicated space just for you.\nThis week\, We’re celebrating National Library Week by making our own mini libraries\, including books\, trinkets\, shelves and more. \nFor teens ages 13-19 only. Online Registration Required.
URL:https://weldonpubliclibrary.org/index.php/event/teen-craft-night-2/
LOCATION:Mary Wood Weldon Memorial Library\, 1530 S Green St.\, Glasgow\, KY\, 42141\, United States
CATEGORIES:Teen Program
END:VEVENT
BEGIN:VEVENT
DTSTART;TZID=America/Chicago:20260422T093000
DTEND;TZID=America/Chicago:20260422T110000
DTSTAMP:20260420T131930
CREATED:20260326T183140Z
LAST-MODIFIED:20260326T184836Z
UID:10000114-1776850200-1776855600@weldonpubliclibrary.org
SUMMARY:Computer Class: Word Basics
DESCRIPTION:Learn how to create text-based documents using Microsoft Word\, as well as how to complete simple actions like saving\, opening\, and printing documents in this class. Register at the library or online.
URL:https://weldonpubliclibrary.org/index.php/event/computer-class-word-basics/
LOCATION:Mary Wood Weldon Memorial Library\, 1530 S Green St.\, Glasgow\, KY\, 42141\, United States
CATEGORIES:Adult Class
ATTACH;FMTTYPE=image/jpeg:https://weldonpubliclibrary.org/wp-content/uploads/2026/03/2026_03_03_14_13_51.jpg
END:VEVENT
BEGIN:VEVENT
DTSTART;TZID=America/Chicago:20260423T163000
DTEND;TZID=America/Chicago:20260423T173000
DTSTAMP:20260420T131930
CREATED:20260409T225301Z
LAST-MODIFIED:20260409T225301Z
UID:10000139-1776961800-1776965400@weldonpubliclibrary.org
SUMMARY:Glasgow Green
DESCRIPTION:Glasgow Green: a hands-on nature program for kids and teens (Kindergarten to age 18).  \nThe Kentucky Forestry Department will be here with their truck to discuss how forest fires affect trees. \nThe Division of Forestry is responsible for fighting wildland fires on private lands and enforcing forest fire hazard seasons and other outdoor burning regulations. \nPlease register online.
URL:https://weldonpubliclibrary.org/index.php/event/glasgow-green-2/
LOCATION:Mary Wood Weldon Memorial Library\, 1530 S Green St.\, Glasgow\, KY\, 42141\, United States
CATEGORIES:Youth Program All Ages
END:VEVENT
BEGIN:VEVENT
DTSTART;TZID=America/Chicago:20260424T100000
DTEND;TZID=America/Chicago:20260424T110000
DTSTAMP:20260420T131930
CREATED:20260409T224059Z
LAST-MODIFIED:20260409T224059Z
UID:10000135-1777024800-1777028400@weldonpubliclibrary.org
SUMMARY:Raising Readers
DESCRIPTION:This story time program is perfect for children ages 3-5. Each week will highlight a different letter\, accompanied by engaging stories\, songs\, and a related activity. \nPlease register online.
URL:https://weldonpubliclibrary.org/index.php/event/raising-readers-5/
LOCATION:Mary Wood Weldon Memorial Library\, 1530 S Green St.\, Glasgow\, KY\, 42141\, United States
CATEGORIES:Children Events
ATTACH;FMTTYPE=image/png:https://weldonpubliclibrary.org/wp-content/uploads/2026/04/Raising-Readers-600x300-1.png
END:VEVENT
END:VCALENDAR