BEGIN:VCALENDAR
VERSION:2.0
PRODID:-//Barren County Public Library - ECPv6.15.20//NONSGML v1.0//EN
CALSCALE:GREGORIAN
METHOD:PUBLISH
X-WR-CALNAME:Barren County Public Library
X-ORIGINAL-URL:https://weldonpubliclibrary.org
X-WR-CALDESC:Events for Barren County Public Library
REFRESH-INTERVAL;VALUE=DURATION:PT1H
X-Robots-Tag:noindex
X-PUBLISHED-TTL:PT1H
BEGIN:VTIMEZONE
TZID:America/Chicago
BEGIN:DAYLIGHT
TZOFFSETFROM:-0600
TZOFFSETTO:-0500
TZNAME:CDT
DTSTART:20250309T080000
END:DAYLIGHT
BEGIN:STANDARD
TZOFFSETFROM:-0500
TZOFFSETTO:-0600
TZNAME:CST
DTSTART:20251102T070000
END:STANDARD
BEGIN:DAYLIGHT
TZOFFSETFROM:-0600
TZOFFSETTO:-0500
TZNAME:CDT
DTSTART:20260308T080000
END:DAYLIGHT
BEGIN:STANDARD
TZOFFSETFROM:-0500
TZOFFSETTO:-0600
TZNAME:CST
DTSTART:20261101T070000
END:STANDARD
BEGIN:DAYLIGHT
TZOFFSETFROM:-0600
TZOFFSETTO:-0500
TZNAME:CDT
DTSTART:20270314T080000
END:DAYLIGHT
BEGIN:STANDARD
TZOFFSETFROM:-0500
TZOFFSETTO:-0600
TZNAME:CST
DTSTART:20271107T070000
END:STANDARD
END:VTIMEZONE
BEGIN:VEVENT
DTSTART;TZID=America/Chicago:20260413T120000
DTEND;TZID=America/Chicago:20260413T130000
DTSTAMP:20260420T150614
CREATED:20260409T225859Z
LAST-MODIFIED:20260409T225859Z
UID:10000141-1776081600-1776085200@weldonpubliclibrary.org
SUMMARY:Homeschool Hangouts
DESCRIPTION:Homeschool Hangouts is a weekly homeschool enrichment program for students in grades 1–12. Each month\, we’ll explore a different subject through mini lessons\, hands-on projects\, and creative experiments. Join us in the Community Room on Thursdays from 12:00–1:00 PM to learn\, connect\, and discover together! \nSCHEDULE FOR APRIL – LITERACY (IN CELEBRATION OF NATIONAL LIBRARY WEEK) \nApril 6: Genre – Learn about different book genres as we create crafts inspired by genre. \nApril 13: Author Visit & Scavenger Hunt – Join authors Jenna and Maddie Reed for a virtual reading of “Library Trip” from Recess in the Living Room: Poems from the Homeschool World\, followed by a fun and interactive library scavenger hunt. \nApril 20: No Homeschool Hangout – There will be no program this week due to the Friends of the Library Spring Book Sale. We encourage families to stop by\, shop the sale\, and support the library! \nApril 27: Book Awards – Discover how book awards work and design your own medal to honor your favorite book. \nFor more information\, contact Savannah at sortega@weldonpubliclibrary.org or call the library and ask to speak to Savannah. \nOnline registration is required.
URL:https://weldonpubliclibrary.org/index.php/event/homeschool-hangouts-6/
LOCATION:Mary Wood Weldon Memorial Library\, 1530 S Green St.\, Glasgow\, KY\, 42141\, United States
CATEGORIES:Youth Program All Ages
ATTACH;FMTTYPE=image/png:https://weldonpubliclibrary.org/wp-content/uploads/2026/04/3-1024x559-1.png
END:VEVENT
BEGIN:VEVENT
DTSTART;TZID=America/Chicago:20260413T160000
DTEND;TZID=America/Chicago:20260413T170000
DTSTAMP:20260420T150614
CREATED:20260409T230707Z
LAST-MODIFIED:20260409T230707Z
UID:10000143-1776096000-1776099600@weldonpubliclibrary.org
SUMMARY:VolunTEEN
DESCRIPTION:Looking to earn service hours\, build your resume\, and make a difference in your community? Join VolunTEENS—our teen volunteer crew! Teens will gain hands-on experience by helping with library programs\, organizing materials\, prepping crafts\, and keeping things running smoothly behind the scenes. It’s a great way to develop new skills\, meet other teens\, and give back in a fun\, flexible environment. We’ll provide training and track your hours—just bring your enthusiasm and willingness to help! \nFor teens ages 13-19 only. Online registration is required.
URL:https://weldonpubliclibrary.org/index.php/event/volunteen-4/
LOCATION:Mary Wood Weldon Memorial Library\, 1530 S Green St.\, Glasgow\, KY\, 42141\, United States
CATEGORIES:Teen Program
END:VEVENT
BEGIN:VEVENT
DTSTART;TZID=America/Chicago:20260416T133000
DTEND;TZID=America/Chicago:20260416T143000
DTSTAMP:20260420T150614
CREATED:20260326T182332Z
LAST-MODIFIED:20260326T182524Z
UID:10000113-1776346200-1776349800@weldonpubliclibrary.org
SUMMARY:Color Me Calm
DESCRIPTION:Unwind and get creative at our monthly adult coloring time. Join us each month for a relaxing hour of coloring\, conversation\, and calm. We’ll provide coloring pages and supplies\, or feel free to bring your own. No experience needed—just drop in and enjoy a little peaceful\, screen-free fun.
URL:https://weldonpubliclibrary.org/index.php/event/color-me-calm-2/
LOCATION:Mary Wood Weldon Memorial Library\, 1530 S Green St.\, Glasgow\, KY\, 42141\, United States
CATEGORIES:Adult Program
ATTACH;FMTTYPE=image/png:https://weldonpubliclibrary.org/wp-content/uploads/2025/12/Color-Me-Calm.png
END:VEVENT
BEGIN:VEVENT
DTSTART;TZID=America/Chicago:20260416T180000
DTEND;TZID=America/Chicago:20260416T193000
DTSTAMP:20260420T150614
CREATED:20260312T003833Z
LAST-MODIFIED:20260312T154412Z
UID:10000111-1776362400-1776367800@weldonpubliclibrary.org
SUMMARY:Red Ink Writers' Circle
DESCRIPTION:Meet together with other local writers for manuscript critique and for support. Prepare a five-minute section of a manuscript to read\, then receive comments from group members with the aim of strengthening your writing. Please bring copies of your selected pages for group members. Open to adult authors of all genres. April 2 meeting will be in the Quiet Reading Room. April 16 meeting will be in the Periodical Room.
URL:https://weldonpubliclibrary.org/index.php/event/red-ink-writers-circle-4/
LOCATION:Mary Wood Weldon Memorial Library\, 1530 S Green St.\, Glasgow\, KY\, 42141\, United States
CATEGORIES:Adult Program
ATTACH;FMTTYPE=image/png:https://weldonpubliclibrary.org/wp-content/uploads/2025/12/RedInkClub.png
END:VEVENT
END:VCALENDAR