BEGIN:VCALENDAR
VERSION:2.0
PRODID:-//Barren County Public Library - ECPv6.15.20//NONSGML v1.0//EN
CALSCALE:GREGORIAN
METHOD:PUBLISH
X-ORIGINAL-URL:https://weldonpubliclibrary.org
X-WR-CALDESC:Events for Barren County Public Library
REFRESH-INTERVAL;VALUE=DURATION:PT1H
X-Robots-Tag:noindex
X-PUBLISHED-TTL:PT1H
BEGIN:VTIMEZONE
TZID:America/Chicago
BEGIN:DAYLIGHT
TZOFFSETFROM:-0600
TZOFFSETTO:-0500
TZNAME:CDT
DTSTART:20250309T080000
END:DAYLIGHT
BEGIN:STANDARD
TZOFFSETFROM:-0500
TZOFFSETTO:-0600
TZNAME:CST
DTSTART:20251102T070000
END:STANDARD
BEGIN:DAYLIGHT
TZOFFSETFROM:-0600
TZOFFSETTO:-0500
TZNAME:CDT
DTSTART:20260308T080000
END:DAYLIGHT
BEGIN:STANDARD
TZOFFSETFROM:-0500
TZOFFSETTO:-0600
TZNAME:CST
DTSTART:20261101T070000
END:STANDARD
BEGIN:DAYLIGHT
TZOFFSETFROM:-0600
TZOFFSETTO:-0500
TZNAME:CDT
DTSTART:20270314T080000
END:DAYLIGHT
BEGIN:STANDARD
TZOFFSETFROM:-0500
TZOFFSETTO:-0600
TZNAME:CST
DTSTART:20271107T070000
END:STANDARD
END:VTIMEZONE
BEGIN:VEVENT
DTSTART;VALUE=DATE:20260501
DTEND;VALUE=DATE:20260530
DTSTAMP:20260420T153049
CREATED:20260409T232240Z
LAST-MODIFIED:20260409T232240Z
UID:10000149-1777593600-1780099199@weldonpubliclibrary.org
SUMMARY:2026 Summer Reading Program Bookmark Contest
DESCRIPTION:Get ready to dig into a creative adventure! \n\n\nThe Mary Wood Weldon Memorial Library is launching our Summer Reading Program with our very first Bookmark Design Contest. This year’s theme\, “Unearth a Story\,” invites artists to explore a world of dinosaurs\, fossils\, and ancient discoveries. From prehistoric creatures to hidden treasures of the past\, we want to see your imagination come to life! \n\n\nChildren\, tweens\, teens\, young adults\, and adults are all encouraged to submit an original bookmark design inspired by the theme. One winner will be selected from each age group: 8 & under\, 9–12\, 13–18\, 19–25\, 26 & older. Winning designs will be printed and shared throughout the library\, and each artist will be recognized at our 110th Birthday Bash on June 5th. \n\n\nEntry forms are available at the Youth Services Desk or can be completed online. All submissions must be returned to the Youth Services Desk by May 29 at 4:00 PM. \n\n\nWe can’t wait to see what you create as we unearth stories together!
URL:https://weldonpubliclibrary.org/index.php/event/2026-summer-reading-program-bookmark-contest/
LOCATION:Mary Wood Weldon Memorial Library\, 1530 S Green St.\, Glasgow\, KY\, 42141\, United States
CATEGORIES:Youth Program All Ages
ATTACH;FMTTYPE=image/png:https://weldonpubliclibrary.org/wp-content/uploads/2026/04/2026-Youth-Bookmark-Art-Contest-Unearth-A-Story-600x333-1.png
END:VEVENT
BEGIN:VEVENT
DTSTART;VALUE=DATE:20260511
DTEND;VALUE=DATE:20260512
DTSTAMP:20260420T153049
CREATED:20260420T201014Z
LAST-MODIFIED:20260420T201203Z
UID:10000205-1778457600-1778543999@weldonpubliclibrary.org
SUMMARY:Youth Subscription Bags
DESCRIPTION:Children and teens in preschool through 12th grade can sign up for handpicked books each month! Simply fill out the registration form with basic information and reading preferences\, and we’ll select some items we think you’ll love to check out! \nThe registration form for May will be available from Monday\, May 4th through Saturday\, May9th. We’ll contact you when your subscription bag is ready to be picked up. \nSubscription Bag selections will be checked out to you for two weeks. When you’re done\, just return the books and bag at the front desk. \nQuestions? Email kjones@weldonpubliclibrary.org
URL:https://weldonpubliclibrary.org/index.php/event/youth-subscription-bags/2026-05-11/
LOCATION:Mary Wood Weldon Memorial Library\, 1530 S Green St.\, Glasgow\, KY\, 42141\, United States
CATEGORIES:Youth Program All Ages
END:VEVENT
BEGIN:VEVENT
DTSTART;TZID=America/Chicago:20260504T120000
DTEND;TZID=America/Chicago:20260504T130000
DTSTAMP:20260420T153049
CREATED:20260409T232551Z
LAST-MODIFIED:20260409T232551Z
UID:10000150-1777896000-1777899600@weldonpubliclibrary.org
SUMMARY:Homeschool Hangout
DESCRIPTION:Homeschool Hangouts is a weekly homeschool enrichment program for students in grades 1–12. Each month\, we’ll explore a different subject through mini lessons\, hands-on projects\, and creative experiments. \n\n\nSCHEDULE FOR MAY – AMERICAN DANCE STYLES \n\n\nMay 4: American Dance Styles – Join us for a special Homeschool Hangout with SOMA Center for Dance! Co-owner Tori Gillespie will introduce a variety of American dance styles as we learn basic movements and explore their cultural roots. \n\n\nMay 11: SOMA Center for Dance Field Trip – Visit SOMA Center for Dance (665 Happy Valley Rd\, Glasgow\, KY 42141) to practice what we’ve learned and try out a dance from their upcoming performance of Princess & The Frog. *Please wear athletic clothes\, bring socks (no street shoes allowed on the dance floor)\, and a water bottle. \n\n\nFor more information\, contact Savannah at sortega@weldonpubliclibrary.org or call the library and ask to speak to Savannah. \n\n\nOnline registration is required.
URL:https://weldonpubliclibrary.org/index.php/event/homeschool-hangout/
LOCATION:Mary Wood Weldon Memorial Library\, 1530 S Green St.\, Glasgow\, KY\, 42141\, United States
CATEGORIES:Youth Program All Ages
ATTACH;FMTTYPE=image/png:https://weldonpubliclibrary.org/wp-content/uploads/2026/04/3-1024x559-1.png
END:VEVENT
BEGIN:VEVENT
DTSTART;TZID=America/Chicago:20260511T120000
DTEND;TZID=America/Chicago:20260511T130000
DTSTAMP:20260420T153049
CREATED:20260409T233216Z
LAST-MODIFIED:20260410T172746Z
UID:10000153-1778500800-1778504400@weldonpubliclibrary.org
SUMMARY:Homeschool Hangout
DESCRIPTION:Homeschool Hangouts is a weekly homeschool enrichment program for students in grades 1–12. Each month\, we’ll explore a different subject through mini lessons\, hands-on projects\, and creative experiments. \n\n\nSCHEDULE FOR MAY – AMERICAN DANCE STYLES \n\n\nMay 4: American Dance Styles – Join us for a special Homeschool Hangout with SOMA Center for Dance! Co-owner Tori Gillespie will introduce a variety of American dance styles as we learn basic movements and explore their cultural roots. \n\n\nMay 11: SOMA Center for Dance Field Trip – Visit SOMA Center for Dance (665 Happy Valley Rd\, Glasgow\, KY 42141) to practice what we’ve learned and try out a dance from their upcoming performance of Princess & The Frog. *Please wear athletic clothes\, bring socks (no street shoes allowed on the dance floor)\, and a water bottle. \n\n\nFor more information\, contact Savannah at sortega@weldonpubliclibrary.org or call the library and ask to speak to Savannah. \n\n\nOnline registration is required.
URL:https://weldonpubliclibrary.org/index.php/event/homeschool-hangout-2/
LOCATION:Mary Wood Weldon Memorial Library\, 1530 S Green St.\, Glasgow\, KY\, 42141\, United States
CATEGORIES:Youth Program All Ages
ATTACH;FMTTYPE=image/png:https://weldonpubliclibrary.org/wp-content/uploads/2026/04/3-1024x559-1.png
END:VEVENT
END:VCALENDAR