BEGIN:VCALENDAR
VERSION:2.0
PRODID:-//Barren County Public Library - ECPv6.15.20//NONSGML v1.0//EN
CALSCALE:GREGORIAN
METHOD:PUBLISH
X-ORIGINAL-URL:https://weldonpubliclibrary.org
X-WR-CALDESC:Events for Barren County Public Library
REFRESH-INTERVAL;VALUE=DURATION:PT1H
X-Robots-Tag:noindex
X-PUBLISHED-TTL:PT1H
BEGIN:VTIMEZONE
TZID:America/Chicago
BEGIN:DAYLIGHT
TZOFFSETFROM:-0600
TZOFFSETTO:-0500
TZNAME:CDT
DTSTART:20250309T080000
END:DAYLIGHT
BEGIN:STANDARD
TZOFFSETFROM:-0500
TZOFFSETTO:-0600
TZNAME:CST
DTSTART:20251102T070000
END:STANDARD
BEGIN:DAYLIGHT
TZOFFSETFROM:-0600
TZOFFSETTO:-0500
TZNAME:CDT
DTSTART:20260308T080000
END:DAYLIGHT
BEGIN:STANDARD
TZOFFSETFROM:-0500
TZOFFSETTO:-0600
TZNAME:CST
DTSTART:20261101T070000
END:STANDARD
BEGIN:DAYLIGHT
TZOFFSETFROM:-0600
TZOFFSETTO:-0500
TZNAME:CDT
DTSTART:20270314T080000
END:DAYLIGHT
BEGIN:STANDARD
TZOFFSETFROM:-0500
TZOFFSETTO:-0600
TZNAME:CST
DTSTART:20271107T070000
END:STANDARD
END:VTIMEZONE
BEGIN:VEVENT
DTSTART;TZID=America/Chicago:20260420T160000
DTEND;TZID=America/Chicago:20260420T183000
DTSTAMP:20260420T150317
CREATED:20260409T231732Z
LAST-MODIFIED:20260409T231732Z
UID:10000147-1776700800-1776709800@weldonpubliclibrary.org
SUMMARY:Tween D&D
DESCRIPTION:Do you have an itch for a fun and exciting fantasy adventure chocked full of twists and turns? Come scratch that itch at the Mary Wood Weldon Memorial Library with a Dungeons and Dragons (version 5.5e) campaign guaranteed to challenge and delight. This campaign was created and will be run by long time player and game master\, Chris Jones. Be prepared for a treasure chest full of laughs\, as our heroes are recruited by the secretive Order of Arcane Findings (O.A.F.) The purpose of the order is to locate and obtain items that have magical powers and keep them out of the hands that have no business possessing them. Can the party find these items and return them for safe keeping? Maybe more importantly\, can the party not blow themselves up in the process? Only you can tell the story! \nFor tweens ages 9-12 only. Online Registration Required.  \n*Don’t forget to bring a filled out character sheet!*
URL:https://weldonpubliclibrary.org/index.php/event/tween-dd-2/
LOCATION:Mary Wood Weldon Memorial Library\, 1530 S Green St.\, Glasgow\, KY\, 42141\, United States
CATEGORIES:Tween Program
ATTACH;FMTTYPE=image/png:https://weldonpubliclibrary.org/wp-content/uploads/2026/04/1-600x327-1.png
END:VEVENT
BEGIN:VEVENT
DTSTART;TZID=America/Chicago:20260428T160000
DTEND;TZID=America/Chicago:20260428T170000
DTSTAMP:20260420T150317
CREATED:20260409T231912Z
LAST-MODIFIED:20260409T231912Z
UID:10000148-1777392000-1777395600@weldonpubliclibrary.org
SUMMARY:Panels & Pizza
DESCRIPTION:Graphic novel enthusiasts\, join Panels & Pizza a monthly tween book club to discuss graphic novels\, engage in related activities\, and enjoy pizza. Explore a variety of stories\, from superheroes to everyday themes! \nThis month we are reading: The Night Librarian by Christopher Lincoln \nFor tweens ages 9-12 only. To sign up and receive your free copy stop by the library.  \n**While the Library makes every effort to avoid food allergens\, we cannot guarantee that food served or used in a program has not come into contact or contains tree nuts\, dairy\, soy\, gluten\, or other allergens.
URL:https://weldonpubliclibrary.org/index.php/event/panels-pizza-2/
LOCATION:Mary Wood Weldon Memorial Library\, 1530 S Green St.\, Glasgow\, KY\, 42141\, United States
CATEGORIES:Tween Program
END:VEVENT
BEGIN:VEVENT
DTSTART;TZID=America/Chicago:20260518T160000
DTEND;TZID=America/Chicago:20260518T183000
DTSTAMP:20260420T150317
CREATED:20260409T233854Z
LAST-MODIFIED:20260409T233854Z
UID:10000156-1779120000-1779129000@weldonpubliclibrary.org
SUMMARY:Tween D&D
DESCRIPTION:Do you have an itch for a fun and exciting fantasy adventure chocked full of twists and turns? Come scratch that itch at the Mary Wood Weldon Memorial Library with a Dungeons and Dragons (version 5.5e) campaign guaranteed to challenge and delight. This campaign was created and will be run by long time player and game master\, Chris Jones. Be prepared for a treasure chest full of laughs\, as our heroes are recruited by the secretive Order of Arcane Findings (O.A.F.) The purpose of the order is to locate and obtain items that have magical powers and keep them out of the hands that have no business possessing them. Can the party find these items and return them for safe keeping? Maybe more importantly\, can the party not blow themselves up in the process? Only you can tell the story! \nFor tweens ages 9-12 only. Online Registration Required.  \n*Don’t forget to bring a filled out character sheet!*
URL:https://weldonpubliclibrary.org/index.php/event/tween-dd-3/
LOCATION:Mary Wood Weldon Memorial Library\, 1530 S Green St.\, Glasgow\, KY\, 42141\, United States
CATEGORIES:Tween Program
ATTACH;FMTTYPE=image/png:https://weldonpubliclibrary.org/wp-content/uploads/2026/04/1-600x327-1.png
END:VEVENT
END:VCALENDAR