BEGIN:VCALENDAR
VERSION:2.0
PRODID:-//Barren County Public Library - ECPv6.15.20//NONSGML v1.0//EN
CALSCALE:GREGORIAN
METHOD:PUBLISH
X-WR-CALNAME:Barren County Public Library
X-ORIGINAL-URL:https://weldonpubliclibrary.org
X-WR-CALDESC:Events for Barren County Public Library
REFRESH-INTERVAL;VALUE=DURATION:PT1H
X-Robots-Tag:noindex
X-PUBLISHED-TTL:PT1H
BEGIN:VTIMEZONE
TZID:America/Chicago
BEGIN:DAYLIGHT
TZOFFSETFROM:-0600
TZOFFSETTO:-0500
TZNAME:CDT
DTSTART:20250309T080000
END:DAYLIGHT
BEGIN:STANDARD
TZOFFSETFROM:-0500
TZOFFSETTO:-0600
TZNAME:CST
DTSTART:20251102T070000
END:STANDARD
BEGIN:DAYLIGHT
TZOFFSETFROM:-0600
TZOFFSETTO:-0500
TZNAME:CDT
DTSTART:20260308T080000
END:DAYLIGHT
BEGIN:STANDARD
TZOFFSETFROM:-0500
TZOFFSETTO:-0600
TZNAME:CST
DTSTART:20261101T070000
END:STANDARD
BEGIN:DAYLIGHT
TZOFFSETFROM:-0600
TZOFFSETTO:-0500
TZNAME:CDT
DTSTART:20270314T080000
END:DAYLIGHT
BEGIN:STANDARD
TZOFFSETFROM:-0500
TZOFFSETTO:-0600
TZNAME:CST
DTSTART:20271107T070000
END:STANDARD
END:VTIMEZONE
BEGIN:VEVENT
DTSTART;TZID=America/Chicago:20260302T160000
DTEND;TZID=America/Chicago:20260302T170000
DTSTAMP:20260420T150306
CREATED:20260312T003733Z
LAST-MODIFIED:20260312T151025Z
UID:10000091-1772467200-1772470800@weldonpubliclibrary.org
SUMMARY:VolunTEEN
DESCRIPTION:Looking to earn service hours\, build your resume\, and make a difference in your community? Join VolunTEENS—our teen volunteer crew! Teens will gain hands-on experience by helping with library programs\, organizing materials\, prepping crafts\, and keeping things running smoothly behind the scenes. It’s a great way to develop new skills\, meet other teens\, and give back in a fun\, flexible environment. We’ll provide training and track your hours—just bring your enthusiasm and willingness to help! For teens ages 13-19 only. Online registration is required.
URL:https://weldonpubliclibrary.org/index.php/event/volunteen/
LOCATION:Mary Wood Weldon Memorial Library\, 1530 S Green St.\, Glasgow\, KY\, 42141\, United States
CATEGORIES:Tween Program
ATTACH;FMTTYPE=image/png:https://weldonpubliclibrary.org/wp-content/uploads/2026/03/1767888427.png
END:VEVENT
BEGIN:VEVENT
DTSTART;TZID=America/Chicago:20260303T180000
DTEND;TZID=America/Chicago:20260303T190000
DTSTAMP:20260420T150306
CREATED:20260312T003718Z
LAST-MODIFIED:20260312T003718Z
UID:10000087-1772560800-1772564400@weldonpubliclibrary.org
SUMMARY:Teen Craft Night
DESCRIPTION:Every Tuesday there is an activity for teens at the library\, featuring game nights\, Teen Advisory Council meetings\, trivia\, crafts\, and more. It’s a great opportunity to relax\, meet other teens\, and enjoy a dedicated space just for you.                                                      This week\, we’ll be crafting up a storm with D&D-themed creations! Make your own potions\, design your character in PicCrew to create a custom nameplate\, draw your own fantasy map\, and connect with fellow D&D enthusiasts.For teens ages 13-19 only. Online Registration Required.
URL:https://weldonpubliclibrary.org/index.php/event/teen-craft-night/
LOCATION:Mary Wood Weldon Memorial Library\, 1530 S Green St.\, Glasgow\, KY\, 42141\, United States
CATEGORIES:Tween Program
END:VEVENT
BEGIN:VEVENT
DTSTART;TZID=America/Chicago:20260309T160000
DTEND;TZID=America/Chicago:20260309T183000
DTSTAMP:20260420T150306
CREATED:20260312T003718Z
LAST-MODIFIED:20260312T003718Z
UID:10000088-1773072000-1773081000@weldonpubliclibrary.org
SUMMARY:Teen D&D
DESCRIPTION:Do you have an itch for a fun and exciting fantasy adventure chocked full of twists and turns? Come scratch that itch at the Mary Wood Weldon Memorial Library with a Dungeons and Dragons (version 5.5e) campaign guaranteed to challenge and delight. This campaign was created and will be run by long time player and game master\, Chris Jones. Be prepared for a treasure chest full of laughs\, as our heroes are recruited by the secretive Order of Arcane Findings (O.A.F.) The purpose of the order is to locate and obtain items that have magical powers and keep them out of the hands that have no business possessing them. Can the party find these items and return them for safe keeping? Maybe more importantly\, can the party not blow themselves up in the process? Only you can tell the story!For teens ages 13-19 only. Online Registration Required.
URL:https://weldonpubliclibrary.org/index.php/event/teen-dd/
LOCATION:Mary Wood Weldon Memorial Library\, 1530 S Green St.\, Glasgow\, KY\, 42141\, United States
CATEGORIES:Tween Program
END:VEVENT
BEGIN:VEVENT
DTSTART;TZID=America/Chicago:20260310T170000
DTEND;TZID=America/Chicago:20260310T190000
DTSTAMP:20260420T150306
CREATED:20260312T003718Z
LAST-MODIFIED:20260312T003718Z
UID:10000090-1773162000-1773169200@weldonpubliclibrary.org
SUMMARY:Mario Mania
DESCRIPTION:Celebrate Mar10 Day with an evening of Mario fun just for teens and tweens! Race friends in Mario Kart\, create Mario Perler bead art\, and make your own Yoshi egg stress ball. Costumes welcome but optional. Join us for games\, crafts\, and all-around Mushroom Kingdom chaos!                         For teens and tweens ages 9-19. Online registration is required.
URL:https://weldonpubliclibrary.org/index.php/event/mario-mania/
LOCATION:Mary Wood Weldon Memorial Library\, 1530 S Green St.\, Glasgow\, KY\, 42141\, United States
CATEGORIES:Tween Program
END:VEVENT
BEGIN:VEVENT
DTSTART;TZID=America/Chicago:20260316T160000
DTEND;TZID=America/Chicago:20260316T170000
DTSTAMP:20260420T150306
CREATED:20260312T003733Z
LAST-MODIFIED:20260312T151016Z
UID:10000092-1773676800-1773680400@weldonpubliclibrary.org
SUMMARY:VolunTEEN
DESCRIPTION:Looking to earn service hours\, build your resume\, and make a difference in your community? Join VolunTEENS—our teen volunteer crew! Teens will gain hands-on experience by helping with library programs\, organizing materials\, prepping crafts\, and keeping things running smoothly behind the scenes. It’s a great way to develop new skills\, meet other teens\, and give back in a fun\, flexible environment. We’ll provide training and track your hours—just bring your enthusiasm and willingness to help! For teens ages 13-19 only. Online registration is required.
URL:https://weldonpubliclibrary.org/index.php/event/volunteen-2/
LOCATION:Mary Wood Weldon Memorial Library\, 1530 S Green St.\, Glasgow\, KY\, 42141\, United States
CATEGORIES:Tween Program
ATTACH;FMTTYPE=image/png:https://weldonpubliclibrary.org/wp-content/uploads/2026/03/1767888427.png
END:VEVENT
BEGIN:VEVENT
DTSTART;TZID=America/Chicago:20260317T180000
DTEND;TZID=America/Chicago:20260317T190000
DTSTAMP:20260420T150306
CREATED:20260312T003733Z
LAST-MODIFIED:20260312T154804Z
UID:10000093-1773770400-1773774000@weldonpubliclibrary.org
SUMMARY:Teen Trivia Night
DESCRIPTION:Every Tuesday there is an activity for teens at the library\, featuring game nights\, Teen Advisory Council meetings\, trivia\, crafts\, and more. It’s a great opportunity to relax\, meet other teens\, and enjoy a dedicated space just for you. This week we’re working our way through the Dewey Decimal System with trivia! This month’s trivia category is: Video Games (or in Dewey lingo\, the 794.8’s). The winner who “Dewey Decimates” the competition takes home a $10 Amazon gift card!For teens ages 13-19 only. Online Registration Required.
URL:https://weldonpubliclibrary.org/index.php/event/teen-trivia-night/
LOCATION:Mary Wood Weldon Memorial Library\, 1530 S Green St.\, Glasgow\, KY\, 42141\, United States
CATEGORIES:Tween Program
ATTACH;FMTTYPE=image/png:https://weldonpubliclibrary.org/wp-content/uploads/2026/03/1767890056.png
END:VEVENT
BEGIN:VEVENT
DTSTART;TZID=America/Chicago:20260323T160000
DTEND;TZID=America/Chicago:20260323T183000
DTSTAMP:20260420T150306
CREATED:20260312T003733Z
LAST-MODIFIED:20260312T154858Z
UID:10000094-1774281600-1774290600@weldonpubliclibrary.org
SUMMARY:Tween D&D
DESCRIPTION:Do you have an itch for a fun and exciting fantasy adventure chocked full of twists and turns? Come scratch that itch at the Mary Wood Weldon Memorial Library with a Dungeons and Dragons (version 5.5e) campaign guaranteed to challenge and delight. This campaign was created and will be run by long time player and game master\, Chris Jones. Be prepared for a treasure chest full of laughs\, as our heroes are recruited by the secretive Order of Arcane Findings (O.A.F.) The purpose of the order is to locate and obtain items that have magical powers and keep them out of the hands that have no business possessing them. Can the party find these items and return them for safe keeping? Maybe more importantly\, can the party not blow themselves up in the process? Only you can tell the story! For tweens ages 9-12 only. Online Registration Required. *Don’t forget to bring a filled out character sheet!*
URL:https://weldonpubliclibrary.org/index.php/event/tween-dd/
LOCATION:Mary Wood Weldon Memorial Library\, 1530 S Green St.\, Glasgow\, KY\, 42141\, United States
CATEGORIES:Tween Program
ATTACH;FMTTYPE=image/png:https://weldonpubliclibrary.org/wp-content/uploads/2026/03/1767888628.png
END:VEVENT
BEGIN:VEVENT
DTSTART;TZID=America/Chicago:20260324T180000
DTEND;TZID=America/Chicago:20260324T190000
DTSTAMP:20260420T150306
CREATED:20260312T003733Z
LAST-MODIFIED:20260312T155230Z
UID:10000095-1774375200-1774378800@weldonpubliclibrary.org
SUMMARY:Teen Advisory Council
DESCRIPTION:Teen Advisory Council (TAC) is designed for teens ages 13 – 19 to have a say in the programs at Mary Wood Weldon Memorial Library and the resources their local library provides. The goal of the TAC is to make the MWWML a creative and welcoming space for teens! For teens ages 13-19 only. Online Registration Required.
URL:https://weldonpubliclibrary.org/index.php/event/teen-advisory-council/
LOCATION:Mary Wood Weldon Memorial Library\, 1530 S Green St.\, Glasgow\, KY\, 42141\, United States
CATEGORIES:Tween Program
ATTACH;FMTTYPE=image/png:https://weldonpubliclibrary.org/wp-content/uploads/2026/03/1767890237.png
END:VEVENT
BEGIN:VEVENT
DTSTART;TZID=America/Chicago:20260330T160000
DTEND;TZID=America/Chicago:20260330T170000
DTSTAMP:20260420T150306
CREATED:20260312T003747Z
LAST-MODIFIED:20260312T152005Z
UID:10000096-1774886400-1774890000@weldonpubliclibrary.org
SUMMARY:VolunTEEN
DESCRIPTION:Looking to earn service hours\, build your resume\, and make a difference in your community? Join VolunTEENS—our teen volunteer crew! Teens will gain hands-on experience by helping with library programs\, organizing materials\, prepping crafts\, and keeping things running smoothly behind the scenes. It’s a great way to develop new skills\, meet other teens\, and give back in a fun\, flexible environment. We’ll provide training and track your hours—just bring your enthusiasm and willingness to help! For teens ages 13-19 only. Online registration is required.
URL:https://weldonpubliclibrary.org/index.php/event/volunteen-3/
LOCATION:Mary Wood Weldon Memorial Library\, 1530 S Green St.\, Glasgow\, KY\, 42141\, United States
CATEGORIES:Tween Program
ATTACH;FMTTYPE=image/png:https://weldonpubliclibrary.org/wp-content/uploads/2026/03/1767888427.png
END:VEVENT
BEGIN:VEVENT
DTSTART;TZID=America/Chicago:20260331T180000
DTEND;TZID=America/Chicago:20260331T190000
DTSTAMP:20260420T150306
CREATED:20260312T003748Z
LAST-MODIFIED:20260312T164247Z
UID:10000097-1774980000-1774983600@weldonpubliclibrary.org
SUMMARY:Panels & Pizza
DESCRIPTION:Graphic novel enthusiasts\, join Panels & Pizza a monthly tween book club to discuss graphic novels\, engage in related activities\, and enjoy pizza. Explore a variety of stories\, from superheroes to everyday themes! This month we are reading: Besties: Prank War by Kayla Miller To sign up and receive your free copy stop by the library. For tweens ages 9-12 only. In-Person Registration Required. **While the Library makes every effort to avoid food allergens\, we cannot guarantee that food served or used in a program has not come into contact or contains tree nuts\, dairy\, soy\, gluten\, or other allergens.
URL:https://weldonpubliclibrary.org/index.php/event/panels-pizza/
LOCATION:Mary Wood Weldon Memorial Library\, 1530 S Green St.\, Glasgow\, KY\, 42141\, United States
CATEGORIES:Tween Program
ATTACH;FMTTYPE=image/png:https://weldonpubliclibrary.org/wp-content/uploads/2026/03/1767890601.png
END:VEVENT
BEGIN:VEVENT
DTSTART;TZID=America/Chicago:20260331T180000
DTEND;TZID=America/Chicago:20260331T190000
DTSTAMP:20260420T150306
CREATED:20260312T003748Z
LAST-MODIFIED:20260312T155041Z
UID:10000098-1774980000-1774983600@weldonpubliclibrary.org
SUMMARY:Teens Travel
DESCRIPTION:Join us each month as we “travel” to a new destination and explore its culture through food and hands-on activities! Teens will get the chance to sample a traditional treat and create something inspired by the region we visit. This month\, we’re heading to Egypt to make air dry clay relief carvings and snack on some marshmallows!For teens ages 13-19 only. Online registration is required.
URL:https://weldonpubliclibrary.org/index.php/event/teens-travel/
LOCATION:Mary Wood Weldon Memorial Library\, 1530 S Green St.\, Glasgow\, KY\, 42141\, United States
CATEGORIES:Tween Program
ATTACH;FMTTYPE=image/png:https://weldonpubliclibrary.org/wp-content/uploads/2026/03/1767890707.png
END:VEVENT
END:VCALENDAR