BEGIN:VCALENDAR
VERSION:2.0
PRODID:-//Barren County Public Library - ECPv6.15.20//NONSGML v1.0//EN
CALSCALE:GREGORIAN
METHOD:PUBLISH
X-ORIGINAL-URL:https://weldonpubliclibrary.org
X-WR-CALDESC:Events for Barren County Public Library
REFRESH-INTERVAL;VALUE=DURATION:PT1H
X-Robots-Tag:noindex
X-PUBLISHED-TTL:PT1H
BEGIN:VTIMEZONE
TZID:America/Chicago
BEGIN:DAYLIGHT
TZOFFSETFROM:-0600
TZOFFSETTO:-0500
TZNAME:CDT
DTSTART:20250309T080000
END:DAYLIGHT
BEGIN:STANDARD
TZOFFSETFROM:-0500
TZOFFSETTO:-0600
TZNAME:CST
DTSTART:20251102T070000
END:STANDARD
BEGIN:DAYLIGHT
TZOFFSETFROM:-0600
TZOFFSETTO:-0500
TZNAME:CDT
DTSTART:20260308T080000
END:DAYLIGHT
BEGIN:STANDARD
TZOFFSETFROM:-0500
TZOFFSETTO:-0600
TZNAME:CST
DTSTART:20261101T070000
END:STANDARD
BEGIN:DAYLIGHT
TZOFFSETFROM:-0600
TZOFFSETTO:-0500
TZNAME:CDT
DTSTART:20270314T080000
END:DAYLIGHT
BEGIN:STANDARD
TZOFFSETFROM:-0500
TZOFFSETTO:-0600
TZNAME:CST
DTSTART:20271107T070000
END:STANDARD
END:VTIMEZONE
BEGIN:VEVENT
DTSTART;TZID=America/Chicago:20260302T120000
DTEND;TZID=America/Chicago:20260302T130000
DTSTAMP:20260420T152817
CREATED:20260312T003630Z
LAST-MODIFIED:20260312T150616Z
UID:10000066-1772452800-1772456400@weldonpubliclibrary.org
SUMMARY:Homeschool Hangouts
DESCRIPTION:Homeschool Hangouts is a weekly homeschool enrichment program for students in grades 1–12. Each month\, we’ll explore a different subject through mini lessons\, hands-on projects\, and creative experiments. Join us in the Community Room on Thursdays from 12:00–1:00 PM to learn\, connect\, and discover together! SCHEDULE FOR MARCH – GEOGRAPHY (THE EASTERN UNITED STATES) \nMarch 2: New York – Balloon Parade Creations – Celebrate New York’s famous parade traditions as we decorate our own colorful parade-style balloons. \nMarch 9: Vermont – Maple Slime – Explore Vermont’s maple heritage by making maple syrup-inspired slime. *Parents must be present for supervision.* \nMarch 16: Maryland – Crab Claws – Learn about Maryland’s iconic blue crabs as we create fun and crafty crab claws. \nMarch 23: Pennsylvania – Paper Pie – Discover Pennsylvania’s rich food traditions while making a playful pie-themed craft. \nMarch 30: Maine – Lighthouses – Journey to Maine’s rocky coast as we design and build our own lighthouse creations. \nFor more information\, contact Savannah at sortega@weldonpubliclibrary.org or call the library and ask to speak to Savannah.
URL:https://weldonpubliclibrary.org/index.php/event/homeschool-hangouts/
LOCATION:Mary Wood Weldon Memorial Library\, 1530 S Green St.\, Glasgow\, KY\, 42141\, United States
CATEGORIES:Family Program
ATTACH;FMTTYPE=image/png:https://weldonpubliclibrary.org/wp-content/uploads/2025/12/1754687019.png
END:VEVENT
BEGIN:VEVENT
DTSTART;TZID=America/Chicago:20260309T120000
DTEND;TZID=America/Chicago:20260309T130000
DTSTAMP:20260420T152817
CREATED:20260312T003630Z
LAST-MODIFIED:20260312T150631Z
UID:10000067-1773057600-1773061200@weldonpubliclibrary.org
SUMMARY:Homeschool Hangouts
DESCRIPTION:Homeschool Hangouts is a weekly homeschool enrichment program for students in grades 1–12. Each month\, we’ll explore a different subject through mini lessons\, hands-on projects\, and creative experiments. Join us in the Community Room on Thursdays from 12:00–1:00 PM to learn\, connect\, and discover together! SCHEDULE FOR MARCH – GEOGRAPHY (THE EASTERN UNITED STATES) \nMarch 2: New York – Balloon Parade Creations – Celebrate New York’s famous parade traditions as we decorate our own colorful parade-style balloons. \nMarch 9: Vermont – Maple Slime – Explore Vermont’s maple heritage by making maple syrup-inspired slime. *Parents must be present for supervision.* \nMarch 16: Maryland – Crab Claws – Learn about Maryland’s iconic blue crabs as we create fun and crafty crab claws. \nMarch 23: Pennsylvania – Paper Pie – Discover Pennsylvania’s rich food traditions while making a playful pie-themed craft. \nMarch 30: Maine – Lighthouses – Journey to Maine’s rocky coast as we design and build our own lighthouse creations. \nFor more information\, contact Savannah at sortega@weldonpubliclibrary.org or call the library and ask to speak to Savannah.
URL:https://weldonpubliclibrary.org/index.php/event/homeschool-hangouts-2/
LOCATION:Mary Wood Weldon Memorial Library\, 1530 S Green St.\, Glasgow\, KY\, 42141\, United States
CATEGORIES:Family Program
ATTACH;FMTTYPE=image/png:https://weldonpubliclibrary.org/wp-content/uploads/2025/12/1754687019.png
END:VEVENT
BEGIN:VEVENT
DTSTART;VALUE=DATE:20260310
DTEND;VALUE=DATE:20260311
DTSTAMP:20260420T152817
CREATED:20260312T003718Z
LAST-MODIFIED:20260312T003718Z
UID:10000089-1773100800-1773187199@weldonpubliclibrary.org
SUMMARY:Mar10 Day at MWWML
DESCRIPTION:Mar10 Day at the Library!                                   March 10… Mar. 10… Mar10… it all adds up to Mario Day! Celebrate with us as we fill the library this month with crafts\, games\, decorations\, and activities inspired by the Mushroom Kingdom. Costumes encouraged! All events are free.                                                      Let’s-a-go! Craft Kits (All Ages)                            Stop by anytime between 9am–8pm to pick up a Mario-themed craft kit. No registration required. Available while supplies last.                                    Mar10 Scavenger Hunt (All Ages)                                         Search high and low for hidden Mario characters throughout the library all month long! Complete the scavenger hunt and be entered to win a LEGO prize. One entry per person; no registration needed.                                             Mario Mania (Ages 9–19)                                     From 5–7pm\, teens and tweens are invited to join us for Mario Mania—an evening packed with Mario Kart races\, Mario Perler Bead art\, Yoshi egg stress balls\, and more. Registration required.                          Mario Makerstation & More! Enjoy Mario-themed decorations throughout the library all month long! Our craft cart will transform into a Mario Makerstation\, featuring fun make-and-take activities. Plus\, try your hand at mini games inspired by the Mushroom Kingdom for extra entries into the LEGO prize drawing—perfect for fans of all ages.
URL:https://weldonpubliclibrary.org/index.php/event/mar10-day-at-mwwml/
LOCATION:Mary Wood Weldon Memorial Library\, 1530 S Green St.\, Glasgow\, KY\, 42141\, United States
CATEGORIES:Family Program
END:VEVENT
BEGIN:VEVENT
DTSTART;TZID=America/Chicago:20260316T120000
DTEND;TZID=America/Chicago:20260316T130000
DTSTAMP:20260420T152817
CREATED:20260312T003630Z
LAST-MODIFIED:20260312T150702Z
UID:10000068-1773662400-1773666000@weldonpubliclibrary.org
SUMMARY:Homeschool Hangouts
DESCRIPTION:Homeschool Hangouts is a weekly homeschool enrichment program for students in grades 1–12. Each month\, we’ll explore a different subject through mini lessons\, hands-on projects\, and creative experiments. Join us in the Community Room on Thursdays from 12:00–1:00 PM to learn\, connect\, and discover together! SCHEDULE FOR MARCH – GEOGRAPHY (THE EASTERN UNITED STATES) \nMarch 2: New York – Balloon Parade Creations – Celebrate New York’s famous parade traditions as we decorate our own colorful parade-style balloons. \nMarch 9: Vermont – Maple Slime – Explore Vermont’s maple heritage by making maple syrup-inspired slime. *Parents must be present for supervision.* \nMarch 16: Maryland – Crab Claws – Learn about Maryland’s iconic blue crabs as we create fun and crafty crab claws. \nMarch 23: Pennsylvania – Paper Pie – Discover Pennsylvania’s rich food traditions while making a playful pie-themed craft. \nMarch 30: Maine – Lighthouses – Journey to Maine’s rocky coast as we design and build our own lighthouse creations. \nFor more information\, contact Savannah at sortega@weldonpubliclibrary.org or call the library and ask to speak to Savannah.
URL:https://weldonpubliclibrary.org/index.php/event/homeschool-hangouts-3/
LOCATION:Mary Wood Weldon Memorial Library\, 1530 S Green St.\, Glasgow\, KY\, 42141\, United States
CATEGORIES:Family Program
ATTACH;FMTTYPE=image/png:https://weldonpubliclibrary.org/wp-content/uploads/2025/12/1754687019.png
END:VEVENT
BEGIN:VEVENT
DTSTART;TZID=America/Chicago:20260321T130000
DTEND;TZID=America/Chicago:20260321T153000
DTSTAMP:20260420T152817
CREATED:20260312T003748Z
LAST-MODIFIED:20260312T172543Z
UID:10000099-1774098000-1774107000@weldonpubliclibrary.org
SUMMARY:Saturday Matinee: Superman (2025) + Trivia
DESCRIPTION:Enjoy pre-show trivia on all things Superman! Win candy and drinks to accompany the popcorn we will provide–then sit back and enjoy the show. Superman must reconcile his alien Kryptonian heritage with his human upbringing as reporter Clark Kent. As the embodiment of truth\, justice and the human way\, he soon finds himself in a world that views these as old-fashioned. Rated PG-13. Bring your own drink (in case you don’t win one!).
URL:https://weldonpubliclibrary.org/index.php/event/saturday-matinee-superman-2025-trivia/
LOCATION:Mary Wood Weldon Memorial Library\, 1530 S Green St.\, Glasgow\, KY\, 42141\, United States
CATEGORIES:Family Program
ATTACH;FMTTYPE=image/jpeg:https://weldonpubliclibrary.org/wp-content/uploads/2026/03/1770929543-scaled-e1773336328275.jpg
END:VEVENT
BEGIN:VEVENT
DTSTART;TZID=America/Chicago:20260323T120000
DTEND;TZID=America/Chicago:20260323T130000
DTSTAMP:20260420T152817
CREATED:20260312T003631Z
LAST-MODIFIED:20260312T150712Z
UID:10000069-1774267200-1774270800@weldonpubliclibrary.org
SUMMARY:Homeschool Hangouts
DESCRIPTION:Homeschool Hangouts is a weekly homeschool enrichment program for students in grades 1–12. Each month\, we’ll explore a different subject through mini lessons\, hands-on projects\, and creative experiments. Join us in the Community Room on Thursdays from 12:00–1:00 PM to learn\, connect\, and discover together! SCHEDULE FOR MARCH – GEOGRAPHY (THE EASTERN UNITED STATES) \nMarch 2: New York – Balloon Parade Creations – Celebrate New York’s famous parade traditions as we decorate our own colorful parade-style balloons. \nMarch 9: Vermont – Maple Slime – Explore Vermont’s maple heritage by making maple syrup-inspired slime. *Parents must be present for supervision.* \nMarch 16: Maryland – Crab Claws – Learn about Maryland’s iconic blue crabs as we create fun and crafty crab claws. \nMarch 23: Pennsylvania – Paper Pie – Discover Pennsylvania’s rich food traditions while making a playful pie-themed craft. \nMarch 30: Maine – Lighthouses – Journey to Maine’s rocky coast as we design and build our own lighthouse creations. \nFor more information\, contact Savannah at sortega@weldonpubliclibrary.org or call the library and ask to speak to Savannah.
URL:https://weldonpubliclibrary.org/index.php/event/homeschool-hangouts-4/
LOCATION:Mary Wood Weldon Memorial Library\, 1530 S Green St.\, Glasgow\, KY\, 42141\, United States
CATEGORIES:Family Program
ATTACH;FMTTYPE=image/png:https://weldonpubliclibrary.org/wp-content/uploads/2025/12/1754687019.png
END:VEVENT
BEGIN:VEVENT
DTSTART;TZID=America/Chicago:20260330T120000
DTEND;TZID=America/Chicago:20260330T130000
DTSTAMP:20260420T152817
CREATED:20260312T003631Z
LAST-MODIFIED:20260312T150735Z
UID:10000070-1774872000-1774875600@weldonpubliclibrary.org
SUMMARY:Homeschool Hangouts
DESCRIPTION:Homeschool Hangouts is a weekly homeschool enrichment program for students in grades 1–12. Each month\, we’ll explore a different subject through mini lessons\, hands-on projects\, and creative experiments. Join us in the Community Room on Thursdays from 12:00–1:00 PM to learn\, connect\, and discover together! SCHEDULE FOR MARCH – GEOGRAPHY (THE EASTERN UNITED STATES) \nMarch 2: New York – Balloon Parade Creations – Celebrate New York’s famous parade traditions as we decorate our own colorful parade-style balloons. \nMarch 9: Vermont – Maple Slime – Explore Vermont’s maple heritage by making maple syrup-inspired slime. *Parents must be present for supervision.* \nMarch 16: Maryland – Crab Claws – Learn about Maryland’s iconic blue crabs as we create fun and crafty crab claws. \nMarch 23: Pennsylvania – Paper Pie – Discover Pennsylvania’s rich food traditions while making a playful pie-themed craft. \nMarch 30: Maine – Lighthouses – Journey to Maine’s rocky coast as we design and build our own lighthouse creations. \nFor more information\, contact Savannah at sortega@weldonpubliclibrary.org or call the library and ask to speak to Savannah.
URL:https://weldonpubliclibrary.org/index.php/event/homeschool-hangouts-5/
LOCATION:Mary Wood Weldon Memorial Library\, 1530 S Green St.\, Glasgow\, KY\, 42141\, United States
CATEGORIES:Family Program
ATTACH;FMTTYPE=image/png:https://weldonpubliclibrary.org/wp-content/uploads/2025/12/1754687019.png
END:VEVENT
END:VCALENDAR