BEGIN:VCALENDAR
VERSION:2.0
PRODID:-//Barren County Public Library - ECPv6.15.20//NONSGML v1.0//EN
CALSCALE:GREGORIAN
METHOD:PUBLISH
X-ORIGINAL-URL:https://weldonpubliclibrary.org
X-WR-CALDESC:Events for Barren County Public Library
REFRESH-INTERVAL;VALUE=DURATION:PT1H
X-Robots-Tag:noindex
X-PUBLISHED-TTL:PT1H
BEGIN:VTIMEZONE
TZID:America/Chicago
BEGIN:DAYLIGHT
TZOFFSETFROM:-0600
TZOFFSETTO:-0500
TZNAME:CDT
DTSTART:20250309T080000
END:DAYLIGHT
BEGIN:STANDARD
TZOFFSETFROM:-0500
TZOFFSETTO:-0600
TZNAME:CST
DTSTART:20251102T070000
END:STANDARD
BEGIN:DAYLIGHT
TZOFFSETFROM:-0600
TZOFFSETTO:-0500
TZNAME:CDT
DTSTART:20260308T080000
END:DAYLIGHT
BEGIN:STANDARD
TZOFFSETFROM:-0500
TZOFFSETTO:-0600
TZNAME:CST
DTSTART:20261101T070000
END:STANDARD
BEGIN:DAYLIGHT
TZOFFSETFROM:-0600
TZOFFSETTO:-0500
TZNAME:CDT
DTSTART:20270314T080000
END:DAYLIGHT
BEGIN:STANDARD
TZOFFSETFROM:-0500
TZOFFSETTO:-0600
TZNAME:CST
DTSTART:20271107T070000
END:STANDARD
END:VTIMEZONE
BEGIN:VEVENT
DTSTART;TZID=America/Chicago:20260424T100000
DTEND;TZID=America/Chicago:20260424T110000
DTSTAMP:20260420T152635
CREATED:20260409T224059Z
LAST-MODIFIED:20260409T224059Z
UID:10000135-1777024800-1777028400@weldonpubliclibrary.org
SUMMARY:Raising Readers
DESCRIPTION:This story time program is perfect for children ages 3-5. Each week will highlight a different letter\, accompanied by engaging stories\, songs\, and a related activity. \nPlease register online.
URL:https://weldonpubliclibrary.org/index.php/event/raising-readers-5/
LOCATION:Mary Wood Weldon Memorial Library\, 1530 S Green St.\, Glasgow\, KY\, 42141\, United States
CATEGORIES:Children Events
ATTACH;FMTTYPE=image/png:https://weldonpubliclibrary.org/wp-content/uploads/2026/04/Raising-Readers-600x300-1.png
END:VEVENT
BEGIN:VEVENT
DTSTART;TZID=America/Chicago:20260428T093000
DTEND;TZID=America/Chicago:20260428T100000
DTSTAMP:20260420T152635
CREATED:20260409T222812Z
LAST-MODIFIED:20260409T230304Z
UID:10000128-1777368600-1777370400@weldonpubliclibrary.org
SUMMARY:Toddler Tuesday
DESCRIPTION:Toddler Tuesday is a 30-minute story time program designed for 9 months-2 years. Each week you can expect  stories\, songs\, and free play. \nPlease register online.
URL:https://weldonpubliclibrary.org/index.php/event/toddler-tuesday-12/
LOCATION:Mary Wood Weldon Memorial Library\, 1530 S Green St.\, Glasgow\, KY\, 42141\, United States
CATEGORIES:Children Events
ATTACH;FMTTYPE=image/png:https://weldonpubliclibrary.org/wp-content/uploads/2026/04/Blue-Bright-Sun-Zoom-Virtual-Background-768x432-1.png
END:VEVENT
BEGIN:VEVENT
DTSTART;TZID=America/Chicago:20260428T103000
DTEND;TZID=America/Chicago:20260428T110000
DTSTAMP:20260420T152635
CREATED:20260409T222536Z
LAST-MODIFIED:20260409T222536Z
UID:10000127-1777372200-1777374000@weldonpubliclibrary.org
SUMMARY:Toddler Tuesday
DESCRIPTION:Toddler Tuesday is a 30-minute story time program designed for 9 months-2 years. Each week you can expect  stories\, songs\, and free play. \nPlease register online.
URL:https://weldonpubliclibrary.org/index.php/event/toddler-tuesday-11/
LOCATION:Mary Wood Weldon Memorial Library\, 1530 S Green St.\, Glasgow\, KY\, 42141\, United States
CATEGORIES:Children Events
ATTACH;FMTTYPE=image/png:https://weldonpubliclibrary.org/wp-content/uploads/2026/04/Blue-Bright-Sun-Zoom-Virtual-Background-768x432-1.png
END:VEVENT
BEGIN:VEVENT
DTSTART;TZID=America/Chicago:20260501T100000
DTEND;TZID=America/Chicago:20260501T110000
DTSTAMP:20260420T152635
CREATED:20260409T224436Z
LAST-MODIFIED:20260418T181645Z
UID:10000137-1777629600-1777633200@weldonpubliclibrary.org
SUMMARY:Pre-K S.T.E.A.M.
DESCRIPTION:Preschoolers aged 3-5 will explore the world of S.T.E.A.M. through stories\, songs\, and hands on fun! This program blends learning and play and is perfect for growing minds. \nJoin us for a colorful Preschool STEAM adventure outside the library (weather permitting)! Little learners will explore creativity and science through hands-on chalk art\, experimenting with colors\, shapes\, and texture. This activity encourages imagination\, fine motor skills\, and early learning—all while enjoying the outdoors. Dress for mess! \nPlease register online. 
URL:https://weldonpubliclibrary.org/index.php/event/pre-k-s-t-e-a-m/
LOCATION:KY
CATEGORIES:Children Events
ATTACH;FMTTYPE=image/png:https://weldonpubliclibrary.org/wp-content/uploads/2026/04/PreKSteam-600x300-1.png
END:VEVENT
BEGIN:VEVENT
DTSTART;TZID=America/Chicago:20260505T093000
DTEND;TZID=America/Chicago:20260505T100000
DTSTAMP:20260420T152635
CREATED:20260409T223208Z
LAST-MODIFIED:20260409T223208Z
UID:10000130-1777973400-1777975200@weldonpubliclibrary.org
SUMMARY:Toddler Tuesday
DESCRIPTION:Toddler Tuesday is a 30-minute story time program designed for 9 months-2 years. Each week you can expect  stories\, songs\, and free play. \nPlease register online.
URL:https://weldonpubliclibrary.org/index.php/event/toddler-tuesday-13/
LOCATION:Mary Wood Weldon Memorial Library\, 1530 S Green St.\, Glasgow\, KY\, 42141\, United States
CATEGORIES:Children Events
ATTACH;FMTTYPE=image/png:https://weldonpubliclibrary.org/wp-content/uploads/2026/04/Blue-Bright-Sun-Zoom-Virtual-Background-768x432-1.png
END:VEVENT
BEGIN:VEVENT
DTSTART;TZID=America/Chicago:20260505T103000
DTEND;TZID=America/Chicago:20260505T110000
DTSTAMP:20260420T152635
CREATED:20260409T223215Z
LAST-MODIFIED:20260409T223215Z
UID:10000131-1777977000-1777978800@weldonpubliclibrary.org
SUMMARY:Toddler Tuesday
DESCRIPTION:Toddler Tuesday is a 30-minute story time program designed for 9 months-2 years. Each week you can expect  stories\, songs\, and free play. \nPlease register online.
URL:https://weldonpubliclibrary.org/index.php/event/toddler-tuesday-14/
LOCATION:Mary Wood Weldon Memorial Library\, 1530 S Green St.\, Glasgow\, KY\, 42141\, United States
CATEGORIES:Children Events
ATTACH;FMTTYPE=image/png:https://weldonpubliclibrary.org/wp-content/uploads/2026/04/Blue-Bright-Sun-Zoom-Virtual-Background-768x432-1.png
END:VEVENT
BEGIN:VEVENT
DTSTART;TZID=America/Chicago:20260507T163000
DTEND;TZID=America/Chicago:20260507T173000
DTSTAMP:20260420T152635
CREATED:20260409T224817Z
LAST-MODIFIED:20260409T224817Z
UID:10000138-1778171400-1778175000@weldonpubliclibrary.org
SUMMARY:Gogh With The Flow
DESCRIPTION:Create a one-of-a-kind keepsake at the library with easy kid-made glass magnets. \nKids will design their own colorful magnets using glass gems. These handmade magnets make perfect\, heartfelt gifts just in time for Mother’s Day and Father’s Day. All supplies provided—just bring your creativity!
URL:https://weldonpubliclibrary.org/index.php/event/gogh-with-the-flow-2/
LOCATION:Mary Wood Weldon Memorial Library\, 1530 S Green St.\, Glasgow\, KY\, 42141\, United States
CATEGORIES:Children Events
END:VEVENT
BEGIN:VEVENT
DTSTART;TZID=America/Chicago:20260508T100000
DTEND;TZID=America/Chicago:20260508T110000
DTSTAMP:20260420T152635
CREATED:20260409T224054Z
LAST-MODIFIED:20260409T224054Z
UID:10000136-1778234400-1778238000@weldonpubliclibrary.org
SUMMARY:Raising Readers
DESCRIPTION:This story time program is perfect for children ages 3-5. Each week will highlight a different letter\, accompanied by engaging stories\, songs\, and a related activity. \nPlease register online.
URL:https://weldonpubliclibrary.org/index.php/event/raising-readers-3/
LOCATION:Mary Wood Weldon Memorial Library\, 1530 S Green St.\, Glasgow\, KY\, 42141\, United States
CATEGORIES:Children Events
ATTACH;FMTTYPE=image/png:https://weldonpubliclibrary.org/wp-content/uploads/2026/04/Raising-Readers-600x300-1.png
END:VEVENT
BEGIN:VEVENT
DTSTART;TZID=America/Chicago:20260512T093000
DTEND;TZID=America/Chicago:20260512T100000
DTSTAMP:20260420T152635
CREATED:20260409T223506Z
LAST-MODIFIED:20260409T223506Z
UID:10000133-1778578200-1778580000@weldonpubliclibrary.org
SUMMARY:Toddler Tuesday
DESCRIPTION:Toddler Tuesday is a 30-minute story time program designed for 9 months-2 years. Each week you can expect  stories\, songs\, and free play. \nPlease register online.
URL:https://weldonpubliclibrary.org/index.php/event/toddler-tuesday-16/
LOCATION:Mary Wood Weldon Memorial Library\, 1530 S Green St.\, Glasgow\, KY\, 42141\, United States
CATEGORIES:Children Events
ATTACH;FMTTYPE=image/png:https://weldonpubliclibrary.org/wp-content/uploads/2026/04/Blue-Bright-Sun-Zoom-Virtual-Background-768x432-1.png
END:VEVENT
BEGIN:VEVENT
DTSTART;TZID=America/Chicago:20260512T103000
DTEND;TZID=America/Chicago:20260512T110000
DTSTAMP:20260420T152635
CREATED:20260409T223431Z
LAST-MODIFIED:20260409T223431Z
UID:10000132-1778581800-1778583600@weldonpubliclibrary.org
SUMMARY:Toddler Tuesday
DESCRIPTION:Toddler Tuesday is a 30-minute story time program designed for 9 months-2 years. Each week you can expect  stories\, songs\, and free play. \nPlease register online.
URL:https://weldonpubliclibrary.org/index.php/event/toddler-tuesday-15/
LOCATION:KY
CATEGORIES:Children Events
ATTACH;FMTTYPE=image/png:https://weldonpubliclibrary.org/wp-content/uploads/2026/04/Blue-Bright-Sun-Zoom-Virtual-Background-768x432-1.png
END:VEVENT
BEGIN:VEVENT
DTSTART;TZID=America/Chicago:20260515T100000
DTEND;TZID=America/Chicago:20260515T110000
DTSTAMP:20260420T152635
CREATED:20260409T224056Z
LAST-MODIFIED:20260409T224056Z
UID:10000134-1778839200-1778842800@weldonpubliclibrary.org
SUMMARY:Raising Readers
DESCRIPTION:This story time program is perfect for children ages 3-5. Each week will highlight a different letter\, accompanied by engaging stories\, songs\, and a related activity. \nPlease register online.
URL:https://weldonpubliclibrary.org/index.php/event/raising-readers-4/
LOCATION:Mary Wood Weldon Memorial Library\, 1530 S Green St.\, Glasgow\, KY\, 42141\, United States
CATEGORIES:Children Events
ATTACH;FMTTYPE=image/png:https://weldonpubliclibrary.org/wp-content/uploads/2026/04/Raising-Readers-600x300-1.png
END:VEVENT
END:VCALENDAR