BEGIN:VCALENDAR
VERSION:2.0
PRODID:-//Barren County Public Library - ECPv6.15.20//NONSGML v1.0//EN
CALSCALE:GREGORIAN
METHOD:PUBLISH
X-WR-CALNAME:Barren County Public Library
X-ORIGINAL-URL:https://weldonpubliclibrary.org
X-WR-CALDESC:Events for Barren County Public Library
REFRESH-INTERVAL;VALUE=DURATION:PT1H
X-Robots-Tag:noindex
X-PUBLISHED-TTL:PT1H
BEGIN:VTIMEZONE
TZID:America/Chicago
BEGIN:DAYLIGHT
TZOFFSETFROM:-0600
TZOFFSETTO:-0500
TZNAME:CDT
DTSTART:20250309T080000
END:DAYLIGHT
BEGIN:STANDARD
TZOFFSETFROM:-0500
TZOFFSETTO:-0600
TZNAME:CST
DTSTART:20251102T070000
END:STANDARD
BEGIN:DAYLIGHT
TZOFFSETFROM:-0600
TZOFFSETTO:-0500
TZNAME:CDT
DTSTART:20260308T080000
END:DAYLIGHT
BEGIN:STANDARD
TZOFFSETFROM:-0500
TZOFFSETTO:-0600
TZNAME:CST
DTSTART:20261101T070000
END:STANDARD
BEGIN:DAYLIGHT
TZOFFSETFROM:-0600
TZOFFSETTO:-0500
TZNAME:CDT
DTSTART:20270314T080000
END:DAYLIGHT
BEGIN:STANDARD
TZOFFSETFROM:-0500
TZOFFSETTO:-0600
TZNAME:CST
DTSTART:20271107T070000
END:STANDARD
END:VTIMEZONE
BEGIN:VEVENT
DTSTART;VALUE=DATE:20260501
DTEND;VALUE=DATE:20260530
DTSTAMP:20260420T152316
CREATED:20260409T232240Z
LAST-MODIFIED:20260409T232240Z
UID:10000149-1777593600-1780099199@weldonpubliclibrary.org
SUMMARY:2026 Summer Reading Program Bookmark Contest
DESCRIPTION:Get ready to dig into a creative adventure! \n\n\nThe Mary Wood Weldon Memorial Library is launching our Summer Reading Program with our very first Bookmark Design Contest. This year’s theme\, “Unearth a Story\,” invites artists to explore a world of dinosaurs\, fossils\, and ancient discoveries. From prehistoric creatures to hidden treasures of the past\, we want to see your imagination come to life! \n\n\nChildren\, tweens\, teens\, young adults\, and adults are all encouraged to submit an original bookmark design inspired by the theme. One winner will be selected from each age group: 8 & under\, 9–12\, 13–18\, 19–25\, 26 & older. Winning designs will be printed and shared throughout the library\, and each artist will be recognized at our 110th Birthday Bash on June 5th. \n\n\nEntry forms are available at the Youth Services Desk or can be completed online. All submissions must be returned to the Youth Services Desk by May 29 at 4:00 PM. \n\n\nWe can’t wait to see what you create as we unearth stories together!
URL:https://weldonpubliclibrary.org/index.php/event/2026-summer-reading-program-bookmark-contest/
LOCATION:Mary Wood Weldon Memorial Library\, 1530 S Green St.\, Glasgow\, KY\, 42141\, United States
CATEGORIES:Youth Program All Ages
ATTACH;FMTTYPE=image/png:https://weldonpubliclibrary.org/wp-content/uploads/2026/04/2026-Youth-Bookmark-Art-Contest-Unearth-A-Story-600x333-1.png
END:VEVENT
BEGIN:VEVENT
DTSTART;TZID=America/Chicago:20260528T100000
DTEND;TZID=America/Chicago:20260528T110000
DTSTAMP:20260420T152316
CREATED:20260410T173341Z
LAST-MODIFIED:20260413T201844Z
UID:10000181-1779962400-1779966000@weldonpubliclibrary.org
SUMMARY:Page Turners Book Club
DESCRIPTION:The book selection this month is The Bluest Eye\, by Toni Morrison. Pecola Breedlove\, a young Black girl\, prays every day for beauty. Mocked by other children for the dark skin\, curly hair\, and brown eyes that set her apart\, she yearns for normalcy\, for the blond hair and blue eyes that she believes will allow her to finally fit in. Pick up a copy of the book at the library\, read\, and join the group for discussion.
URL:https://weldonpubliclibrary.org/index.php/event/page-turners-book-club-3/
LOCATION:Mary Wood Weldon Memorial Library\, 1530 S Green St.\, Glasgow\, KY\, 42141\, United States
CATEGORIES:Adult Program
ATTACH;FMTTYPE=image/png:https://weldonpubliclibrary.org/wp-content/uploads/2026/04/Page-Turners-FB.png
END:VEVENT
BEGIN:VEVENT
DTSTART;TZID=America/Chicago:20260528T120000
DTEND;TZID=America/Chicago:20260528T130000
DTSTAMP:20260420T152316
CREATED:20260409T235000Z
LAST-MODIFIED:20260409T235000Z
UID:10000160-1779969600-1779973200@weldonpubliclibrary.org
SUMMARY:Chair Yoga
DESCRIPTION:Join us at the library for a relaxing chair yoga series led by instructor Beshka Moore. This gentle\, accessible class is perfect for beginners\, those with mobility challenges\, or anyone seeking a low-impact way to stay active. Space is limited\, and the class fills up quickly—register at the library or online today! Registration for one session reserves a seat for all four sessions.
URL:https://weldonpubliclibrary.org/index.php/event/chair-yoga-4/
LOCATION:Mary Wood Weldon Memorial Library\, 1530 S Green St.\, Glasgow\, KY\, 42141\, United States
CATEGORIES:Adult Class
ATTACH;FMTTYPE=image/png:https://weldonpubliclibrary.org/wp-content/uploads/2026/04/chair-yoga_2-600x475-1.png
END:VEVENT
END:VCALENDAR