BEGIN:VCALENDAR
VERSION:2.0
PRODID:-//Barren County Public Library - ECPv6.15.20//NONSGML v1.0//EN
CALSCALE:GREGORIAN
METHOD:PUBLISH
X-WR-CALNAME:Barren County Public Library
X-ORIGINAL-URL:https://weldonpubliclibrary.org
X-WR-CALDESC:Events for Barren County Public Library
REFRESH-INTERVAL;VALUE=DURATION:PT1H
X-Robots-Tag:noindex
X-PUBLISHED-TTL:PT1H
BEGIN:VTIMEZONE
TZID:America/Chicago
BEGIN:DAYLIGHT
TZOFFSETFROM:-0600
TZOFFSETTO:-0500
TZNAME:CDT
DTSTART:20250309T080000
END:DAYLIGHT
BEGIN:STANDARD
TZOFFSETFROM:-0500
TZOFFSETTO:-0600
TZNAME:CST
DTSTART:20251102T070000
END:STANDARD
BEGIN:DAYLIGHT
TZOFFSETFROM:-0600
TZOFFSETTO:-0500
TZNAME:CDT
DTSTART:20260308T080000
END:DAYLIGHT
BEGIN:STANDARD
TZOFFSETFROM:-0500
TZOFFSETTO:-0600
TZNAME:CST
DTSTART:20261101T070000
END:STANDARD
BEGIN:DAYLIGHT
TZOFFSETFROM:-0600
TZOFFSETTO:-0500
TZNAME:CDT
DTSTART:20270314T080000
END:DAYLIGHT
BEGIN:STANDARD
TZOFFSETFROM:-0500
TZOFFSETTO:-0600
TZNAME:CST
DTSTART:20271107T070000
END:STANDARD
END:VTIMEZONE
BEGIN:VEVENT
DTSTART;TZID=America/Chicago:20260428T093000
DTEND;TZID=America/Chicago:20260428T100000
DTSTAMP:20260420T152424
CREATED:20260409T222812Z
LAST-MODIFIED:20260409T230304Z
UID:10000128-1777368600-1777370400@weldonpubliclibrary.org
SUMMARY:Toddler Tuesday
DESCRIPTION:Toddler Tuesday is a 30-minute story time program designed for 9 months-2 years. Each week you can expect  stories\, songs\, and free play. \nPlease register online.
URL:https://weldonpubliclibrary.org/index.php/event/toddler-tuesday-12/
LOCATION:Mary Wood Weldon Memorial Library\, 1530 S Green St.\, Glasgow\, KY\, 42141\, United States
CATEGORIES:Children Events
ATTACH;FMTTYPE=image/png:https://weldonpubliclibrary.org/wp-content/uploads/2026/04/Blue-Bright-Sun-Zoom-Virtual-Background-768x432-1.png
END:VEVENT
BEGIN:VEVENT
DTSTART;TZID=America/Chicago:20260428T103000
DTEND;TZID=America/Chicago:20260428T110000
DTSTAMP:20260420T152424
CREATED:20260409T222536Z
LAST-MODIFIED:20260409T222536Z
UID:10000127-1777372200-1777374000@weldonpubliclibrary.org
SUMMARY:Toddler Tuesday
DESCRIPTION:Toddler Tuesday is a 30-minute story time program designed for 9 months-2 years. Each week you can expect  stories\, songs\, and free play. \nPlease register online.
URL:https://weldonpubliclibrary.org/index.php/event/toddler-tuesday-11/
LOCATION:Mary Wood Weldon Memorial Library\, 1530 S Green St.\, Glasgow\, KY\, 42141\, United States
CATEGORIES:Children Events
ATTACH;FMTTYPE=image/png:https://weldonpubliclibrary.org/wp-content/uploads/2026/04/Blue-Bright-Sun-Zoom-Virtual-Background-768x432-1.png
END:VEVENT
BEGIN:VEVENT
DTSTART;TZID=America/Chicago:20260428T160000
DTEND;TZID=America/Chicago:20260428T170000
DTSTAMP:20260420T152424
CREATED:20260409T231912Z
LAST-MODIFIED:20260409T231912Z
UID:10000148-1777392000-1777395600@weldonpubliclibrary.org
SUMMARY:Panels & Pizza
DESCRIPTION:Graphic novel enthusiasts\, join Panels & Pizza a monthly tween book club to discuss graphic novels\, engage in related activities\, and enjoy pizza. Explore a variety of stories\, from superheroes to everyday themes! \nThis month we are reading: The Night Librarian by Christopher Lincoln \nFor tweens ages 9-12 only. To sign up and receive your free copy stop by the library.  \n**While the Library makes every effort to avoid food allergens\, we cannot guarantee that food served or used in a program has not come into contact or contains tree nuts\, dairy\, soy\, gluten\, or other allergens.
URL:https://weldonpubliclibrary.org/index.php/event/panels-pizza-2/
LOCATION:Mary Wood Weldon Memorial Library\, 1530 S Green St.\, Glasgow\, KY\, 42141\, United States
CATEGORIES:Tween Program
END:VEVENT
BEGIN:VEVENT
DTSTART;TZID=America/Chicago:20260428T180000
DTEND;TZID=America/Chicago:20260428T190000
DTSTAMP:20260420T152424
CREATED:20260409T231323Z
LAST-MODIFIED:20260409T231323Z
UID:10000146-1777399200-1777402800@weldonpubliclibrary.org
SUMMARY:Teens Travel
DESCRIPTION:Join us each month as we “travel” to a new destination and explore its culture through food and hands-on activities! Teens will get the chance to sample a traditional treat and create something inspired by the region we visit. \nThis month\, we’re heading to Camp Half-Blood to try some legendary blue foods and test our skills with epic camp activities! \nFor teens ages 13-19 only. Online registration is required.
URL:https://weldonpubliclibrary.org/index.php/event/teens-travel-2/
LOCATION:Mary Wood Weldon Memorial Library\, 1530 S Green St.\, Glasgow\, KY\, 42141\, United States
CATEGORIES:Teen Program
END:VEVENT
END:VCALENDAR