BEGIN:VCALENDAR
VERSION:2.0
PRODID:-//Barren County Public Library - ECPv6.15.20//NONSGML v1.0//EN
CALSCALE:GREGORIAN
METHOD:PUBLISH
X-ORIGINAL-URL:https://weldonpubliclibrary.org
X-WR-CALDESC:Events for Barren County Public Library
REFRESH-INTERVAL;VALUE=DURATION:PT1H
X-Robots-Tag:noindex
X-PUBLISHED-TTL:PT1H
BEGIN:VTIMEZONE
TZID:America/Chicago
BEGIN:DAYLIGHT
TZOFFSETFROM:-0600
TZOFFSETTO:-0500
TZNAME:CDT
DTSTART:20250309T080000
END:DAYLIGHT
BEGIN:STANDARD
TZOFFSETFROM:-0500
TZOFFSETTO:-0600
TZNAME:CST
DTSTART:20251102T070000
END:STANDARD
BEGIN:DAYLIGHT
TZOFFSETFROM:-0600
TZOFFSETTO:-0500
TZNAME:CDT
DTSTART:20260308T080000
END:DAYLIGHT
BEGIN:STANDARD
TZOFFSETFROM:-0500
TZOFFSETTO:-0600
TZNAME:CST
DTSTART:20261101T070000
END:STANDARD
BEGIN:DAYLIGHT
TZOFFSETFROM:-0600
TZOFFSETTO:-0500
TZNAME:CDT
DTSTART:20270314T080000
END:DAYLIGHT
BEGIN:STANDARD
TZOFFSETFROM:-0500
TZOFFSETTO:-0600
TZNAME:CST
DTSTART:20271107T070000
END:STANDARD
END:VTIMEZONE
BEGIN:VEVENT
DTSTART;TZID=America/Chicago:20260402T180000
DTEND;TZID=America/Chicago:20260402T190000
DTSTAMP:20260420T133434
CREATED:20260312T003818Z
LAST-MODIFIED:20260417T194403Z
UID:10000108-1775152800-1775156400@weldonpubliclibrary.org
SUMMARY:Indie Lens PopUp: The Tallest Dwarf
DESCRIPTION:WKU Public Media is partnering with Independent Lens to screen independently made films. One of those films is The Tallest Dwarf. The Tallest Dwarf is about filmmaker Julie Forest Wyman seeking belonging in the little people community and exploring dwarfism within her family. Watch as Wyman explores identity and medicine\, asking whether society should change people or the structures that limit them. Register at the library or online.
URL:https://weldonpubliclibrary.org/index.php/event/indie-lens-popup-the-tallest-dwarf/
LOCATION:Mary Wood Weldon Memorial Library\, 1530 S Green St.\, Glasgow\, KY\, 42141\, United States
CATEGORIES:Adult Program
ATTACH;FMTTYPE=image/webp:https://weldonpubliclibrary.org/wp-content/uploads/2026/03/TTD_MWWL.webp
END:VEVENT
BEGIN:VEVENT
DTSTART;TZID=America/Chicago:20260402T180000
DTEND;TZID=America/Chicago:20260402T193000
DTSTAMP:20260420T133434
CREATED:20260312T003818Z
LAST-MODIFIED:20260312T154411Z
UID:10000109-1775152800-1775158200@weldonpubliclibrary.org
SUMMARY:Red Ink Writers' Circle
DESCRIPTION:Meet together with other local writers for manuscript critique and for support. Prepare a five-minute section of a manuscript to read\, then receive comments from group members with the aim of strengthening your writing. Please bring copies of your selected pages for group members. Open to adult authors of all genres. April 2 meeting will be in the Quiet Reading Room. April 16 meeting will be in the Periodical Room.
URL:https://weldonpubliclibrary.org/index.php/event/red-ink-writers-circle-3/
LOCATION:Mary Wood Weldon Memorial Library\, 1530 S Green St.\, Glasgow\, KY\, 42141\, United States
CATEGORIES:Adult Program
ATTACH;FMTTYPE=image/png:https://weldonpubliclibrary.org/wp-content/uploads/2025/12/RedInkClub.png
END:VEVENT
END:VCALENDAR